BEGIN:VCALENDAR
VERSION:2.0
PRODID:-//Mill Creek Towne Garden Club - ECPv6.15.20//NONSGML v1.0//EN
CALSCALE:GREGORIAN
METHOD:PUBLISH
X-ORIGINAL-URL:https://www.mctgardenclub.org
X-WR-CALDESC:Events for Mill Creek Towne Garden Club
REFRESH-INTERVAL;VALUE=DURATION:PT1H
X-Robots-Tag:noindex
X-PUBLISHED-TTL:PT1H
BEGIN:VTIMEZONE
TZID:UTC
BEGIN:STANDARD
TZOFFSETFROM:+0000
TZOFFSETTO:+0000
TZNAME:UTC
DTSTART:20250101T000000
END:STANDARD
END:VTIMEZONE
BEGIN:VEVENT
DTSTART;TZID=UTC:20260418T090000
DTEND;TZID=UTC:20260418T120000
DTSTAMP:20260423T201609
CREATED:20260316T164539Z
LAST-MODIFIED:20260316T165722Z
UID:10884-1776502800-1776513600@www.mctgardenclub.org
SUMMARY:Mill Creek Extreme Cleanup\, Saturday\, April 18
DESCRIPTION:Please join the Mill Creek Towne Garden Club\, Rock Creek Conservancy\, and Montgomery Parks for our 2026 EXTREME CLEANUP of Mill Creek Stream on Saturday\, April 18\, 2026 for a litter removal restoration event in Rock Creek Park. Trash is the visible form of stormwater pollution\, a major threat to water quality and park health and its removal makes the parklands cleaner\, safer\, and more beautiful for all. Event location\, directions\, and information will be sent prior to the event. This annual event is a watershed-wide cleanup movement with the goal of total trash removal throughout Rock Creek\, its tributaries\, and surrounding neighborhoods and parklands. Information is included in this link:\n \nhttps://www.rockcreekconservancy.org/extreme-cleanup\n \nAdditional information will be sent from the event leader one business day before the event. It’s a campaign clean up event\, so go with your family or friends\, pick out a point in the creek area where you can pick up trash\, and spend as much time as you want. Every little bit helps.\n \nWe hope you’ll join us!\n\n\nRegistration required. See below for registration link for this event.\n\nMill Creek Stream Cleanup Registration
URL:https://www.mctgardenclub.org/event/mill-creek-extreme-cleanup-saturday-april-18/
CATEGORIES:Free,Seasonal,special event,Volunteering
ATTACH;FMTTYPE=image/jpeg:https://www.mctgardenclub.org/wp-content/uploads/2026/03/Sat-18Apr2026-Mill-Creek-Spring-Clean-Up-join-us.jpg
ORGANIZER;CN="MCT Garden Club":MAILTO:info@mctgardenclub.org
END:VEVENT
END:VCALENDAR