BEGIN:VCALENDAR
VERSION:2.0
PRODID:-//Mill Creek Towne Garden Club - ECPv6.15.20//NONSGML v1.0//EN
CALSCALE:GREGORIAN
METHOD:PUBLISH
X-WR-CALNAME:Mill Creek Towne Garden Club
X-ORIGINAL-URL:https://www.mctgardenclub.org
X-WR-CALDESC:Events for Mill Creek Towne Garden Club
REFRESH-INTERVAL;VALUE=DURATION:PT1H
X-Robots-Tag:noindex
X-PUBLISHED-TTL:PT1H
BEGIN:VTIMEZONE
TZID:UTC
BEGIN:STANDARD
TZOFFSETFROM:+0000
TZOFFSETTO:+0000
TZNAME:UTC
DTSTART:20140101T000000
END:STANDARD
END:VTIMEZONE
BEGIN:VTIMEZONE
TZID:America/New_York
BEGIN:DAYLIGHT
TZOFFSETFROM:-0500
TZOFFSETTO:-0400
TZNAME:EDT
DTSTART:20140309T070000
END:DAYLIGHT
BEGIN:STANDARD
TZOFFSETFROM:-0400
TZOFFSETTO:-0500
TZNAME:EST
DTSTART:20141102T060000
END:STANDARD
BEGIN:DAYLIGHT
TZOFFSETFROM:-0500
TZOFFSETTO:-0400
TZNAME:EDT
DTSTART:20150308T070000
END:DAYLIGHT
BEGIN:STANDARD
TZOFFSETFROM:-0400
TZOFFSETTO:-0500
TZNAME:EST
DTSTART:20151101T060000
END:STANDARD
BEGIN:DAYLIGHT
TZOFFSETFROM:-0500
TZOFFSETTO:-0400
TZNAME:EDT
DTSTART:20160313T070000
END:DAYLIGHT
BEGIN:STANDARD
TZOFFSETFROM:-0400
TZOFFSETTO:-0500
TZNAME:EST
DTSTART:20161106T060000
END:STANDARD
END:VTIMEZONE
BEGIN:VEVENT
DTSTART;TZID=UTC:20151107T090000
DTEND;TZID=UTC:20151107T170000
DTSTAMP:20260425T110458
CREATED:20151101T191118Z
LAST-MODIFIED:20151106T174814Z
UID:1761-1446886800-1446915600@www.mctgardenclub.org
SUMMARY:11/07/2015 - Maryland Emancipation Day Celebrations 2015  - Day 2
DESCRIPTION:Enslaved people living in Maryland were freed by a new state constitution on November 1\, 1864. Please join us November 6-8\, 2015 in celebrating Maryland Emancipation Day in our parks! \nHike the Underground Railroad\, tour a slave cabin\, visit an African American history museum\, enjoy living history demonstrations and eat great food! Most Saturday and Sunday Park events are FREE. \nVisit HistoryInTheParks.org for details. \nNOTE: In the event of severe weather\, please call ahead to make sure the parks will be open. On Saturday mornings\, please call 301-650-4373 and a recorded message will advise you of the park hours. \n\n\n\n\nFriday\, November 6 \n\n\n\n\nSOLD OUT – Underground Railroad Experience Trail Special Night Hike \n“Voices of the Underground Railroad”\n 7 – 9:30 pm – $5 | Register at ActiveMONTGMERY.org\n Woodlawn Manor Cultural Park\n 16501 Norwood Rd.\, Sandy Spring\, MD 20860 \n\n\n\n\n\n\n\n\nSaturday\, November 7 \n\n\n\n\nUnderground Railroad Experience Trail Hikes \n Woodlawn Manor Cultural Park\n 16501 Norwood Rd.\, Sandy Spring\, MD 20860  \nSandy Spring Slave Museum & African Art Gallery Open House \n 18524 Brooke Rd.\, Sandy Spring\, MD 20860 \nSandy Spring Museum Open House\n17901 Bentley Rd.\, Sandy Spring\, MD 20860 \n\n\nOakley Cabin African American*\n Museum & Park | Live Music &\n Demonstrations*\n 3610 Brookeville Rd.\, Olney\, MD 20832 \nHarper Cabin at Brookside Nature Center\n Tours & Demonstrations\n 1400 Glenallen Ave.\, Wheaton\, MD 20902 \n\n\n\n\n\n\n\n\nSunday\, November 7 \n\n\n\n\nJosiah Henson Park* \n Open House*\n 11420 Old Georgetown Rd.\n N. Bethesda\, MD 20852 \n\n\nHarper Cabin at Brookside Nature Center\nTours & Demonstrations\n 1400 Glenallen Ave.\, Wheaton\, MD 20902\n Admission Free – Purchase tickets onsite for \n cider tastings\, crafts\, and other activities \n\n\n\n\n*American Sign Language (ASL) interpreters will be available.
URL:https://www.mctgardenclub.org/event/11072015-maryland-emancipation-day-celebrations-2015-day-2/
LOCATION:Times & Locations Vary\, MD\, United States
CATEGORIES:Family,Free,hike,Kids,Nature,special event
END:VEVENT
BEGIN:VEVENT
DTSTART;VALUE=DATE:20151102
DTEND;VALUE=DATE:20151219
DTSTAMP:20260425T110458
CREATED:20151102T015830Z
LAST-MODIFIED:20151102T020051Z
UID:1850-1446422400-1450483199@www.mctgardenclub.org
SUMMARY:Become a Master Gardener
DESCRIPTION:Become a Master Gardener: Master Gardeners are trained volunteers of the University of Maryland Extension dedicated to helping County residents by educating them about safe\, effective and sustainable horticultural practices that build healthy gardens\, landscapes and communities. Participants in the 2016 Montgomery County Master Gardener volunteer training program will learn environmentally sound gardening practices and after qualifying as Master Gardeners have many opportunities to help and teach others. \nClasses meet on Tuesday\, Wednesday\, and Friday of each week from January 26\, 2016\, to March 11\, 2016\, from 10 a.m. to 3 p.m.at the Montgomery County Extension\, Agricultural History Farm Park\, 18410 Muncaster Road\, in Derwood\, MD. Cost is $325. The deadline to register is Friday\, December 18\, 2015. Class size is limited and filled on a first-come\, first-served basis. \nFor more details: https://extension.umd.edu/…/Mon…/2016%20training%20class.pdf
URL:https://www.mctgardenclub.org/event/become-a-master-gardener/
LOCATION:University of Maryland Extension Montgomery County Office\, 18400 Muncaster Rd\, Derwood\, MD\, 20855\, United States
CATEGORIES:workshop
END:VEVENT
BEGIN:VEVENT
DTSTART;TZID=America/New_York:20151027T193000
DTEND;TZID=America/New_York:20151027T210000
DTSTAMP:20260425T110458
CREATED:20150930T212917Z
LAST-MODIFIED:20151129T205237Z
UID:1289-1445974200-1445979600@www.mctgardenclub.org
SUMMARY:MCT Garden Club October Meeting
DESCRIPTION:Hello\, everyone!  I hope you have been enjoying the fall weather!  Even though the gardens are dry\, the days and nights have been lovely!  Our next Garden Club meeting is just around the corner.  The October meeting is a planning meeting – we have a lot to discuss\, especially since there will be no November meeting.  Topics include fund-raising\, relating to the community [these topics are especially important since we plan to no longer sponsor the poinsettia sale]\, the holiday party\, and the fall cleanups for the Miller Fall and Roslyn Ave. entrances.  Please mark you calendar and plan to attend as we need EVERYONE’S input on these issues. \n\nDate: Tuesday\, October 27\, 2015 @ 7:30 pm\nTopic: Business Meeting\nLocation: Mill Creek Towne Elementary Teacher’s Lounge\nHostess: Lynn Hughes\, Carolyn Randall\n\n 
URL:https://www.mctgardenclub.org/event/october-meeting/
LOCATION:Mill Creek Towne Elementary\, 17700 Park Mill Dr\, Derwood\, 20855\, United States
CATEGORIES:garden,special event
END:VEVENT
BEGIN:VEVENT
DTSTART;VALUE=DATE:20151003
DTEND;VALUE=DATE:20151027
DTSTAMP:20260425T110458
CREATED:20151001T011513Z
LAST-MODIFIED:20151106T174814Z
UID:1306-1443830400-1445903999@www.mctgardenclub.org
SUMMARY:"Wings of Fancy" Live Butterfly & Caterpillar Exhibit
DESCRIPTION:Wednesday\, July 1 through Sunday\, October 25\, 2015 \n\n\n\n10am-4pm Daily | Brookside Gardens Fees: Ages 0-2: Free | Ages 3-12: $5 | Ages 13 & up: $8 \nLearn more \n 
URL:https://www.mctgardenclub.org/event/wings-of-fancy-live-butterfly-caterpillar-exhibit/
LOCATION:Brookside Gardens\, 1800 Glenallan Ave.\, Wheaton\, MD\, 20902\, United States
CATEGORIES:Free
ATTACH;FMTTYPE=image/jpeg:https://www.mctgardenclub.org/wp-content/uploads/2015/10/wof_butterflies_015.jpg
END:VEVENT
END:VCALENDAR