BEGIN:VCALENDAR
VERSION:2.0
PRODID:-//Mill Creek Towne Garden Club - ECPv6.15.20//NONSGML v1.0//EN
CALSCALE:GREGORIAN
METHOD:PUBLISH
X-WR-CALNAME:Mill Creek Towne Garden Club
X-ORIGINAL-URL:https://www.mctgardenclub.org
X-WR-CALDESC:Events for Mill Creek Towne Garden Club
REFRESH-INTERVAL;VALUE=DURATION:PT1H
X-Robots-Tag:noindex
X-PUBLISHED-TTL:PT1H
BEGIN:VTIMEZONE
TZID:UTC
BEGIN:STANDARD
TZOFFSETFROM:+0000
TZOFFSETTO:+0000
TZNAME:UTC
DTSTART:20150101T000000
END:STANDARD
END:VTIMEZONE
BEGIN:VEVENT
DTSTART;TZID=UTC:20260418T090000
DTEND;TZID=UTC:20260418T120000
DTSTAMP:20260423T185554
CREATED:20260316T164539Z
LAST-MODIFIED:20260316T165722Z
UID:10884-1776502800-1776513600@www.mctgardenclub.org
SUMMARY:Mill Creek Extreme Cleanup\, Saturday\, April 18
DESCRIPTION:Please join the Mill Creek Towne Garden Club\, Rock Creek Conservancy\, and Montgomery Parks for our 2026 EXTREME CLEANUP of Mill Creek Stream on Saturday\, April 18\, 2026 for a litter removal restoration event in Rock Creek Park. Trash is the visible form of stormwater pollution\, a major threat to water quality and park health and its removal makes the parklands cleaner\, safer\, and more beautiful for all. Event location\, directions\, and information will be sent prior to the event. This annual event is a watershed-wide cleanup movement with the goal of total trash removal throughout Rock Creek\, its tributaries\, and surrounding neighborhoods and parklands. Information is included in this link:\n \nhttps://www.rockcreekconservancy.org/extreme-cleanup\n \nAdditional information will be sent from the event leader one business day before the event. It’s a campaign clean up event\, so go with your family or friends\, pick out a point in the creek area where you can pick up trash\, and spend as much time as you want. Every little bit helps.\n \nWe hope you’ll join us!\n\n\nRegistration required. See below for registration link for this event.\n\nMill Creek Stream Cleanup Registration
URL:https://www.mctgardenclub.org/event/mill-creek-extreme-cleanup-saturday-april-18/
CATEGORIES:Free,Seasonal,special event,Volunteering
ATTACH;FMTTYPE=image/jpeg:https://www.mctgardenclub.org/wp-content/uploads/2026/03/Sat-18Apr2026-Mill-Creek-Spring-Clean-Up-join-us.jpg
ORGANIZER;CN="MCT Garden Club":MAILTO:info@mctgardenclub.org
END:VEVENT
BEGIN:VEVENT
DTSTART;TZID=UTC:20260329T153000
DTEND;TZID=UTC:20260329T173000
DTSTAMP:20260423T185554
CREATED:20260326T023208Z
LAST-MODIFIED:20260326T023208Z
UID:10906-1774798200-1774805400@www.mctgardenclub.org
SUMMARY:FREE Native Tree & Shrub Giveaway - Sunday\, March 29
DESCRIPTION:The Mill Creek Towne Garden Club is pleased to offer our community FREE native trees and shrubs!!!! \nSunday\, March 29th \n3:30 pm-5:30 pm \n7617 Warbler Ln\, Derwood\, MD 20855 \nFirst come first serve\, limit 4 plants per household. The trees and shrubs come bareroot – they need to be planted as soon as possible\, and you will need to provide deer protection unless they are inside a fenced area that the deer do not frequent. Please use some damp newspaper to wrap the roots up until they are ready for planting. \nDeer management and Tree cages: Watch for the presence of deer. Use repellents during installations and cage ALL trees and shrubs to prevent deer browsing and rubbing. Cage immediately upon planting to avoid catastrophe!  For guidance on caging see this handy guide:  https://mywoodlot.com/images/supporting_information/installing_tree_cages.pdf \nDeer fencing material: Tenax brand deer fencing is recommended. This material is UV stable and sturdier than the usual flimsy mesh typically available at Home Depot and Lowes. The flimsy stuff will tear more easily and is know to ensnare and kill both birds and snakes.  To avoid the bird and snake problem and for a sturdy product\, be sure to purchase Tenax with 1-¾” by 2” mesh size. Zip ties work well to secure the Tenax to a stake and to itself. \nFor more detailed guidance on planting and caring for bare root trees and shrubs visit: https://dnr.maryland.gov/forests/Documents/Planting-Guide-Brochure.pdf \nThese plants are free to the public\, but we do welcome donations to the Club to help us continue to beautify our neighborhood and provide quality programming. To donate please visit www.mctgardenclub.org/donations/ and consider joining the Mill Creek Towne Garden Club! \nDonate Today!\n2026 Mill Creek Towne Garden Club Tree Giveaway Species List\n \nPawpaw (Asimina triloba) \nA shrub or small tree that tolerates shade\, pawpaw produces a fruit that is readily eaten by wildlife and humans.  It has a height 15 to 30 feet\, a spread of 15 to 30 feet\, and prefers full sun to part shade and moist fertile soils.  Often spreads by root suckers to form colonies or thickets. \n \nAmerican hazelnut (Corylus americana) \nThis fast growing\, nut producing\, multi-stemmed shrub can reach heights of 8 to 15 feet with a spread usually slightly greater than the height.  Hazelnut prefers full sun to partial shade and well-drained loamy soil.  Fruit matures in September\, is edible\, and benefits turkey\, deer and other wildlife.  This Maryland native displays a copper-red color in the fall. \n \nAmerican beautyberry (Callicarpa americana) \nThis native shrub quickly grows 5 to 8 feet tall and almost as wide with drooping branches.  It prefers moist well drained soils and will tolerate light shade\, but is intolerant of deep shade.  Clusters of purple berries that form on the stems in the fall are an important food source for more than forty species of songbirds. \n \nButtonbush (Cephalanthus occidentalis) \nA deciduous shrub that grows only on wet sites\, buttonbush is usually 3 to 12 feet tall with a spread of 4 to 8 feet. The seed is consumed by small birds and ducks.  Buttonbush must be planted at the water’s edge.  Prefers full sun to partial shade.
URL:https://www.mctgardenclub.org/event/free-native-tree-shrub-giveaway-sunday-march-29/
CATEGORIES:Free,garden,Seasonal
ATTACH;FMTTYPE=image/jpeg:https://www.mctgardenclub.org/wp-content/uploads/2026/03/Free-Native-Tree-Giveaway-4.jpg
END:VEVENT
BEGIN:VEVENT
DTSTART;TZID=UTC:20260224T190000
DTEND;TZID=UTC:20260224T200000
DTSTAMP:20260423T185554
CREATED:20260114T202859Z
LAST-MODIFIED:20260130T161754Z
UID:10775-1771959600-1771963200@www.mctgardenclub.org
SUMMARY:All About Chiles
DESCRIPTION:7pm \nMill Creek Parish United Methodist\n7101 Horizon Terrace\nDerwood\, MD 20855 \nJoin us for a special presentation on an “All About Chiles”\, by guest speaker\, Betty Cichy\, Master Gardener on Tuesday\, February 24\, 2026 at 7pm. \n\nFREE\nLight Refreshments provided\n\nMaster Gardener Betty Cichy will cover topics in this talk related to how to choose\, grow\, cook\, preserve and enjoy hot peppers and Chiles. Learn about how to garden and take care of your Chiles\, hot peppers\, and how to incorporate them into your cooking. \nBetty Cichy Bio:\nA master gardener since 2020\, Betty Cichy was a reporter and features writer for the Bucks County Courier Times and the Doylestown Intelligencer newspapers in Pennsylvania for 20 years\, eventually serving as Food Editor. She also covered gardening for the papers\, and became a Master Gardener after retirement. She has had home vegetable gardens for most of her life\, and those gardens have always included chile peppers – a special interest. She now writes a column\, “The Seasonal Kitchen\,” for The Seed\, the monthly newsletter of the Montgomery County Master Gardener organization. \nRSVP: info@mctgardenclub.org \nPlease do NOT attend this event if you are or have been experiencing symptoms of illness. \nTHIS EVENT IS FREE\, BUT DONATIONS ARE ALWAYS APPRECIATED! \nDonations pay for landscaping\, repair and maintenance of the Mill Creek Towne Entrances\, and our garden-related programs at our community meetings. \nNOTE: If Montgomery County Schools are closed due to inclement weather\, the Garden Club meeting will be cancelled.
URL:https://www.mctgardenclub.org/event/all-about-chiles/
LOCATION:Mill Creek Parish United Methodist\, 7101 Horizon Terrace\, Derwood\, MD\, 20855
CATEGORIES:Free,garden,Seasonal,special event
ATTACH;FMTTYPE=image/png:https://www.mctgardenclub.org/wp-content/uploads/2026/01/All-About-Chiles-3.png
ORGANIZER;CN="MCT Garden Club":MAILTO:info@mctgardenclub.org
END:VEVENT
BEGIN:VEVENT
DTSTART;TZID=UTC:20250503T080000
DTEND;TZID=UTC:20250503T120000
DTSTAMP:20260423T185554
CREATED:20250325T162339Z
LAST-MODIFIED:20250424T220830Z
UID:10387-1746259200-1746273600@www.mctgardenclub.org
SUMMARY:Mill Creek Towne Garden Club Plant & Yard Sale - Sat May 3
DESCRIPTION:YARD SALE HAS BEEN POSTPONED UNTIL SATURDAY\, MAY 3 \nSaturday \nMay 3\, 2025 \n8:00AM – 12:00PM \n17805 Vinyard Lane \nDerwood\, MD 20855 \nCome and check out our amazing selection of plants and yard sale items including: \n\nPlants and Seedlings\nPotting Containers/Vases\nKitchen play set for kids\, toys\nAssorted household items\nand more!\n\nPlease help support the Mill Creek Towne Garden Club by participating in our Spring Plant & Yard Sale. Proceeds from sales and donations will help defray the costs for landscaping and maintenance of Mill Creek Towne’s main entrances and garden-related educational programs for the Derwood community! Thank you for all your help and contributions! \nAbout the Mill Creek Towne Garden Club \nEstablished in 1968\, the objective of the Mill Creek Towne Garden Club is to stimulate and increase knowledge and interest in all facets of gardening among amateurs\, establish an active community beautification program and encourage civic beautification\, and foster group activities for the benefit of the members and the community. The garden club also landscapes and maintains the Mill Creek Towne entrances and common areas. \n  \n 
URL:https://www.mctgardenclub.org/event/mill-creek-towne-garden-club-plant-yard-sale-sat-april-26/
LOCATION:17805 Vinyard Lane\, 17805 Vinyard Lane\, Derwood\, MD\, 20855\, United States
CATEGORIES:Family,garden,Seasonal,special event
ATTACH;FMTTYPE=image/png:https://www.mctgardenclub.org/wp-content/uploads/2025/03/Come-and-check-out-our-amazing-selection-of-plants-and-yard-sale-items-5.png
END:VEVENT
BEGIN:VEVENT
DTSTART;TZID=UTC:20210427T190000
DTEND;TZID=UTC:20210427T200000
DTSTAMP:20260423T185554
CREATED:20210328T201353Z
LAST-MODIFIED:20210404T203001Z
UID:8259-1619550000-1619553600@www.mctgardenclub.org
SUMMARY:Tue\, Apr 27\, 2021 7pm ET Online Event: Lauren Hubbard\, Master Gardener - Native Plants for Sun and Shade
DESCRIPTION:Please join us for a Native By Design\, LLC presentation by Lauren Hubbard\, Derwood resident\, Master Gardener\, and Chesapeake Bay Landscape Professional\, on “Native Plants for Sun and Shade”. Native plants make your garden beautiful and bring in the bees and butterflies too! Learn which plants native to our region grow best here. \nAbout Native by Design\, LLC: \nNative by Design\, LLC\, founded by Dr. Lauren Hubbard\, provides landscape design\, consultation and project management with a focus on sustainable approaches that will provide beauty\, support the ecosystem and reduce your long-term maintenance needs. \nAbout the Speaker: \nLaura Hubbard works with not-for-profits\, homeowners and municipalities to support their efforts to transition to sustainable landscaping practices. Her services include site assessment\, project planning and design\, educational workshops and community outreach\, and project management. She places an emphasis on approaches that are both beautiful and functional while also reducing long term maintenance\, creating sustainable landscapes that serve the client and the environment. \nWith a particular interest in the preservation of genetic diversity in native plant populations\, Lauren has served on the founding board of the Long Island Native Plant Initiative and has launched a project called Butterfly Bandwagon to promote the use of native plants in home landscaping. She has worked with Howard Ecoworks\, Muddy Branch Alliance and Urban Ecosystem Restorations providing program support\, community outreach\, and grant writing and management services that support ecological restoration and stewardship. \nShe has extensive experience as a project manager\, providing grant writing and implementation services to support education and environmental issues. Dr. Hubbard has a Ph.D. in Plant Biology and has used her advanced training to support efforts to maintain biodiversity within our plant communities. She is a Master Gardener\, Weed Warrior\, a certified Chesapeake Bay Landscape Professional\, a certified Landscape-For-Life Trainer\, and a board member of the Maryland Native Plant Society. Dr. Hubbard was formerly a board member with the Long Island Native Plant Society. \n                      Mill Creek Towne Garden Club - Online Event Registration                                                      Name:*FirstLast    E-mail:    Message:All events are Free. Event topics are subject to change. Notifications will be sent to registered attendees if events need to be rescheduled.   Donations to the Mill Creek Towne Garden Club are appreciated. For details on how to donate\, please visit our Donations Page.     reCAPTCHASubmitReset\n\nPlease let us know if you do not receive an email confirmation after registering for this event. You can contact us on our Contact Form: https://www.mctgardenclub.org/about-us/contact-us/ or send an email to: info@mctgardenclub.org.\n\n\nThank you!\n\n\n\nBest Regards\,\n\n\n\nMill Creek Towne Garden Club
URL:https://www.mctgardenclub.org/event/tue-apr-27-2021-7pm-et-online-event-lauren-hubbard-master-gardener-native-plants-for-sun-and-shade/
CATEGORIES:Free,garden,Nature,Seasonal,special event
ATTACH;FMTTYPE=image/png:https://www.mctgardenclub.org/wp-content/uploads/2021/03/Tue-Apr-27-2021-Lauren-Hubbard-Native-Plants-for-Sun-and-Shade-event.png
END:VEVENT
BEGIN:VEVENT
DTSTART;TZID=UTC:20210330T130000
DTEND;TZID=UTC:20210330T170000
DTSTAMP:20260423T185554
CREATED:20210327T162419Z
LAST-MODIFIED:20210327T162749Z
UID:8252-1617109200-1617123600@www.mctgardenclub.org
SUMMARY:FREE Native Trees and Shrubs Giveaway!
DESCRIPTION:The Mill Creek Towne Garden Club is pleased to offer FREE native trees and shrubs provided to us by the Maryland Department of Natural Resources. \nWe are giving away 25 native Pawpaw trees and 25 native Winterberry Holly Shrubs starting at 1PM and ending at 5PM on Tuesday\, March 30th. First come\, first serve. The plants will be available for contactless pick up at 7825 Rydal Terrace\, Derwood\, MD 20855 (Off Briardale). Please limit your selection to four plants per household. The trees and shrubs come bareroot – they need to be planted as soon as possible and you will need to provide deer protection unless they are inside a fenced area that the deer do not frequent. Please bring damp newspaper to wrap the roots up until they are ready for planting.  \nFor more detailed guidance on planting and caring for bare root trees and shrubs visit: https://dnr.maryland.gov/forests/Documents/Planting-Guide-Brochure.pdf \n  \nThese plants are free to the public but we do welcome donations to the Club to help us continue to beautify our neighborhood and provide quality programming. To donate please visit https://www.mctgardenclub.org/donations/ and consider joining the Mill Creek Towne Garden Club! \n  \nPawpaw (Asimina triloba) \nA shrub or small tree that tolerates shade\, pawpaw produces a fruit that is readily eaten by wildlife and humans.  It has a height 15 to 30 feet\, a spread of 15 to 30 feet\, and prefers full sun to part shade and moist fertile soils.  Often spreads by root suckers to form colonies or thickets. \n  \nWinterberry (Ilex verticillata) \nA shrub growing 3 to 12 feet with a spread of 3 to 12 feet.  Full sun to part shade.  Deciduous and dioecious.  Attracts birds.  Winterberry will tolerate wet swampy sites. Red berries remain on female plants into the winter. \n                      Mill Creek Towne Garden Club - Free Native Tree & Shrub Giveaway                                                      Name:*FirstLast    E-mail:    Message:All events are Free. Event topics are subject to change. Notifications will be sent to registered attendees if events need to be rescheduled.   Donations to the Mill Creek Towne Garden Club are appreciated. For details on how to donate\, please visit our Donations Page.     reCAPTCHASubmitReset
URL:https://www.mctgardenclub.org/event/free-native-trees-and-shrubs-giveaway/
LOCATION:7825 Rydal Terrace\, Derwood\, MD 20855\, 7825 Rydal Terrace\, Derwood\, MD\, 20855\, United States
CATEGORIES:Free,garden,Nature,Seasonal,special event
ATTACH;FMTTYPE=image/png:https://www.mctgardenclub.org/wp-content/uploads/2021/03/Free-Native-Tree-and-Shrub-Giveaway-2021.png
END:VEVENT
BEGIN:VEVENT
DTSTART;TZID=UTC:20200418T100000
DTEND;TZID=UTC:20200418T130000
DTSTAMP:20260423T185554
CREATED:20200306T033215Z
LAST-MODIFIED:20200328T180403Z
UID:7687-1587204000-1587214800@www.mctgardenclub.org
SUMMARY:Extreme Clean Up: Mill Creek Stream
DESCRIPTION:Thank you for your commitment to Rock Creek! \nBy now you may well have heard that\, following CDC and local public health guidelines\, the Conservancy has cancelled all group events until future notice\, including next month’s Rock Creek Extreme Cleanup. \nWhile group cleanup events are cancelled\, there are still ways to get outside and make a difference! You can host an Individual Cleanup—it’s just what it sounds like: you\, a pair of gloves\, a trash bag\, and whatever patch of the Rock Creek watershed means the most to you. Sign up here to join the #LoveRockCreek community and care for our Rock Creek and its unique\, urban wilderness. \nWe’d love to hear from you and hope you will share with us the ways you are enjoying and stewarding Rock Creek\, stay connected to Rock Creek Conservancy\, and take good care of yourself out there! \nWe look forward to connecting face-to-face just as soon as we can\, and via virtual channels until then. Please follow us on social media and watch our events webpage for updates if there are any changes based on CDC and public health guidance. \n**************************************************************************************** \nCANCELLED: Join Rock Creek Conservancy\, the Alice Ferguson Foundation\, National Park Service\, Mill Creek Towne Garden Club\, and Extreme Cleanup Leader Susan Yu for our Rock Creek Extreme Cleanup! We will be cleaning up trash from the Mill Creek Stream near the intersection of Mill Creek Drive and Warbler Lane on Saturday\, April 18\, 2020 from 10:00 am to 12:00 pm. \nTrash and pollution are among the biggest threats to this small stream\, one of the northern most tributaries of Rock Creek. Our goal is a total cleanup of Rock Creek and its tributaries\, including the parks and neighborhoods near the creek where trash originates. \nHow long does your waste stick around? (Source: Alice Ferguson Foundation)\nHow to Host a Cleanup Video\nThis video is an overview of hosting a stream clean up event. Although this video is presented by the Alice Ferguson Foundation\, we will doing something similar. If you have some empty detergent containers for sharp objects (as seen in video) please save them up for us. Thanks! \n \nWe invite you to join us for our 12th Annual Extreme Cleanup to help remove trash and keep this section of Rock Creek clean. \nWe hope to see you there! \nYou MUST register for this event; Early registration is required so we can get an accurate count to provide supplies for everyone. \nRegister for Our April 18th Mill Creek Extreme Cleanup Today!\nhttps://events.time.ly/8ib56fp?event=37548728 \nFor more details\, please visit: \nExtreme Cleanup – Mill Creek Stream Training Details
URL:https://www.mctgardenclub.org/event/extreme-clean-up-mill-creek-stream/
CATEGORIES:Nature,Seasonal,special event,Volunteering
ATTACH;FMTTYPE=image/png:https://www.mctgardenclub.org/wp-content/uploads/2020/03/Sat-April-18th-Mill-Creek-Stream-Extreme-Clean-Up-Registration-CANCELLED.png
END:VEVENT
BEGIN:VEVENT
DTSTART;TZID=UTC:20191022T193000
DTEND;TZID=UTC:20191022T203000
DTSTAMP:20260423T185554
CREATED:20191011T022021Z
LAST-MODIFIED:20191012T211059Z
UID:7429-1571772600-1571776200@www.mctgardenclub.org
SUMMARY:Tuesday\, October 22nd Meeting Topic: Pruning Your Fall Garden
DESCRIPTION:Tuesday\, October 22\, 2019 \nTopic: Pruning Your Fall Garden\nTime: 7:30pm – 8:30pm\nLocation: Mill Creek Parish United Methodist\nFellowship Hall\n7101 Horizon Terrace\nDerwood\, MD 20855 \nSpeaker:  Claire Peterson\, Master Gardener\nCost: FREE\, Donations gratefully appreciated! \nLearn basic principles of pruning your fall garden . Please join us for Claire Peterson’s presentation based on the University of Maryland’s Extension Services’ Best Practices for Master Gardeners. Participants will have a chance to try this out during this session. Wear “yard clothes” if you would like to try this hands-on demonstration! Refreshments will be provided. \nNOTE: If Montgomery County Schools are closed due to inclement weather\, the Garden Club meeting will be cancelled. \nRSVP: info@mctgardenclub.org
URL:https://www.mctgardenclub.org/event/tuesday-october-22nd-meeting-topic-pruning-your-fall-garden/
LOCATION:Mill Creek Parish United Methodist\, 7101 Horizon Terrace\, Derwood\, MD\, 20855
CATEGORIES:Free,garden,Seasonal,special event,workshop
ATTACH;FMTTYPE=image/png:https://www.mctgardenclub.org/wp-content/uploads/2019/10/Oct222019-Pruning-Your-Fall-Garde-Tips.png
END:VEVENT
BEGIN:VEVENT
DTSTART;TZID=UTC:20191020T150000
DTEND;TZID=UTC:20191020T180000
DTSTAMP:20260423T185554
CREATED:20190930T013013Z
LAST-MODIFIED:20191012T210322Z
UID:7414-1571583600-1571594400@www.mctgardenclub.org
SUMMARY:Fall Tour at Common Root Farm
DESCRIPTION:  \nLOCAL. FRESH. ORGANICALLY GROWN.LOCAL. FRESH. ORGANICALLY GROWN. \n \nWE ARE HAVING A FARM TOUR!! \nJoin us October 20 from 3-6pm for a guided farm tour and potluck at Common Root Farm.\nSimply stroll through the farm or take some time to explore production driven regenerative agriculture on a small scale suburban farm. Kids are welcome too! \nGuided tours will start at 3:30 and 4:30. Potluck will begin at 5:30. No need to RSVP for the tour\, but please let us know if you plan to make it to the potluck so we can plan accordingly. \nWe will provide vegan chili\, a salad\, bread\, and refreshments. \nAddress is 18021 Bowie Mill Road\, Derwood\, MD 20855. \nWe look forward to seeing you all on the farm! \nRSVP: https://www.facebook.com/events/536962466848387/\n\n\n\n  \n  \nCommon Root Farm\nwww.commonrootfarm.com\n18101 Bowie Mill Road\, Derwood\, MD 20855\n(301) 639.8316
URL:https://www.mctgardenclub.org/event/fall-tour-at-common-root-farm/
LOCATION:Common Root Farm\, 18101 Bowie Mill Road\, Derwood\, MD\, 20855
CATEGORIES:garden,Seasonal,special event
END:VEVENT
BEGIN:VEVENT
DTSTART;TZID=UTC:20190122T193000
DTEND;TZID=UTC:20190122T203000
DTSTAMP:20260423T185554
CREATED:20190101T202333Z
LAST-MODIFIED:20190107T023452Z
UID:7017-1548185400-1548189000@www.mctgardenclub.org
SUMMARY:MCT Garden Club Meeting Program on Arbuscular Mycorrhizal Fungi:  The Key to Soil Health
DESCRIPTION:Please join us for a Maryland Native Plant Society presentation by Michelle Wenisch on composition\, needs of healthy soil “Arbuscular Mycorrhizal Fungi:  The Key to Soil Health”. Refreshments will be provided. \nTopic:  Arbuscular Mycorrhizal Fungi:  The Key to Soil Health\nDate:  Tuesday\, January 22\, 2019\nTime:  7:30pm – 8:30pm\nNEW Location: Mill Creek Parish United Methodist\nFellowship Hall\n7101 Horizon Ct\nDerwood\, MD 20855 \n\nSpeaker:  Michelle Wenisch\, Maryland Native Plant Society\nHostesses:  MCT Garden Club members\nCost: FREE\, Donations gratefully appreciated! \nSee our Donations page for online and offline payment options:\n \nDonate \nNOTE: If Montgomery County Schools are closed due to inclement weather\, the Garden Club meeting will be cancelled. \n  \nRSVP:  info@mctgardenclub.org \n 
URL:https://www.mctgardenclub.org/event/mct-garden-club-meeting-program-on-arbuscular-mycorrhizal-fungi-the-key-to-soil-health/
LOCATION:Mill Creek Parish United Methodist\, 7101 Horizon Terrace\, Derwood\, MD\, 20855
CATEGORIES:garden,Nature,Seasonal,special event
ATTACH;FMTTYPE=image/png:https://www.mctgardenclub.org/wp-content/uploads/2019/01/Jan222019-mctgc-meeting-topic-key-to-soil-health.png
END:VEVENT
BEGIN:VEVENT
DTSTART;TZID=UTC:20170926T193000
DTEND;TZID=UTC:20170926T203000
DTSTAMP:20260423T185554
CREATED:20170904T181924Z
LAST-MODIFIED:20170904T215002Z
UID:6260-1506454200-1506457800@www.mctgardenclub.org
SUMMARY:September Mill Creek Towne Garden Club Topic: Preparing Your Gardens for Winter
DESCRIPTION:Mill Creek Towne Garden Club Meeting Topic: Preparing Your Gardens for Winter\nTuesday\, September 26\, 2017 \nTime: 7:30pm – 8:30pm \nMill Creek Towne Elementary School\nTeacher’s Lounge\n17700 Park Mill Dr.\nDerwood\, MD 20855 \nHi Fellow Gardeners and Neighbors! \nIn September\, join us to hear Master Gardener\, Bonita Condon talk about “Preparing Your Gardens for Winter” and learn some tips on how to get your garden ready for winter. \n\nAbout Bonita Condon \nBonita became a Master Gardener in 2014 after retiring from the National Institutes of Health. She is an avid vegetable gardener\, love perennials\, and combats nonnative invasive species in our parks and grasslands. Her special interests include working with individuals with mobility limitations\, raised garden beds\, and tools that accommodate special needs. She is a certified Weed Warrior\, and an advisor on the Town of Kensington GreenScape committee.
URL:https://www.mctgardenclub.org/event/september-mill-creek-towne-garden-club-topic-preparing-your-gardens-for-winter/
LOCATION:Mill Creek Towne Elementary\, 17700 Park Mill Dr\, Derwood\, 20855\, United States
CATEGORIES:Free,garden,Seasonal,workshop
ATTACH;FMTTYPE=image/jpeg:https://www.mctgardenclub.org/wp-content/uploads/2017/09/cover_crop_garden.jpg
END:VEVENT
BEGIN:VEVENT
DTSTART;TZID=UTC:20160131T150000
DTEND;TZID=UTC:20160131T153000
DTSTAMP:20260423T185554
CREATED:20160109T193953Z
LAST-MODIFIED:20160112T233235Z
UID:2858-1454252400-1454254200@www.mctgardenclub.org
SUMMARY:01/31/2016 - January Storytimes: Winter Weather
DESCRIPTION:Now that the weather is colder\, enjoy a tale about nature in the cozy comfort of the nature center. Join us in January by our cozy hearth to watch the weather from our big window while listening to a different story each week about the wonders of winter weather like snowflakes\, crystals and ice.  \nAges 3 to 6 \n 
URL:https://www.mctgardenclub.org/event/01312016-january-storytimes-winter-weather/
LOCATION:Brookside Nature Center in Wheaton Regional Park\, 1400 Glenallan Ave.\, Wheaton\, MD\, 20902\, United States
CATEGORIES:Family,Free,Nature,Seasonal
END:VEVENT
BEGIN:VEVENT
DTSTART;TZID=UTC:20160130T100000
DTEND;TZID=UTC:20160130T110000
DTSTAMP:20260423T185554
CREATED:20160109T193953Z
LAST-MODIFIED:20160112T231339Z
UID:2857-1454148000-1454151600@www.mctgardenclub.org
SUMMARY:01/30/2016 - Nature Architects
DESCRIPTION:Erect a tower\, build a boat\, make a mud pie…it’s time to let your inner architect out! We’ll venture into different park habitats to design and construct things using natural objects and materials. What we do will depend on the weather and the things we can find. But no matter what we do\, come dressed for the weather and ready to get dirty.  \nAges 3 to 12
URL:https://www.mctgardenclub.org/event/01302016-nature-architects/
LOCATION:Black Hill Regional Park\, 20926 Lake Ridge Dr.\, Boyds\, MD\, 20841\, United States
CATEGORIES:Kids,Nature,Seasonal
END:VEVENT
BEGIN:VEVENT
DTSTART;TZID=UTC:20160123T140000
DTEND;TZID=UTC:20160123T150000
DTSTAMP:20260423T185554
CREATED:20160109T193953Z
LAST-MODIFIED:20160112T225050Z
UID:2851-1453557600-1453561200@www.mctgardenclub.org
SUMMARY:01/23/2016 - Wheaton Wanders
DESCRIPTION:Take a walk with a naturalist on nearby trails to discover what’s happening in nature around Brookside Nature Center. One day we might learn how to identify trees in winter\, another day we’ll go birdwatching. The next week we may learn about animal tracks. You never know what nature will share\, so be here each week for all the fun!  \nAges 6 to 12 \n 
URL:https://www.mctgardenclub.org/event/01232016-wheaton-wanders/
LOCATION:Brookside Nature Center in Wheaton Regional Park\, 1400 Glenallan Ave.\, Wheaton\, MD\, 20902\, United States
CATEGORIES:Family,Free,Kids,Nature,Seasonal
END:VEVENT
BEGIN:VEVENT
DTSTART;TZID=UTC:20160118T090000
DTEND;TZID=UTC:20160118T170000
DTSTAMP:20260423T185554
CREATED:20160109T193951Z
LAST-MODIFIED:20160109T225206Z
UID:2824-1453107600-1453136400@www.mctgardenclub.org
SUMMARY:01/18/2016 - Park Play Day
DESCRIPTION:No school? No problem! On many of the days Montgomery County Public Schools are off (teacher training days\, etc.)\, Park Play Days are on.  Bring your kids (ages 6-12) for a Park Play Day full of activities\, including an ice skating lesson\, arts & crafts\, and fun team games and sports.   \nAges 6 to 12 \n 
URL:https://www.mctgardenclub.org/event/01182016-park-play-day/
LOCATION:Wheaton Regional Park\, 2000 Shorefield Road\, Wheaton\, MD 20902\, Wheaton\, MD\, 20902\, United States
CATEGORIES:Kids,Seasonal
END:VEVENT
END:VCALENDAR