BEGIN:VCALENDAR
VERSION:2.0
PRODID:-//Mill Creek Towne Garden Club - ECPv6.15.20//NONSGML v1.0//EN
CALSCALE:GREGORIAN
METHOD:PUBLISH
X-ORIGINAL-URL:https://www.mctgardenclub.org
X-WR-CALDESC:Events for Mill Creek Towne Garden Club
REFRESH-INTERVAL;VALUE=DURATION:PT1H
X-Robots-Tag:noindex
X-PUBLISHED-TTL:PT1H
BEGIN:VTIMEZONE
TZID:UTC
BEGIN:STANDARD
TZOFFSETFROM:+0000
TZOFFSETTO:+0000
TZNAME:UTC
DTSTART:20140101T000000
END:STANDARD
END:VTIMEZONE
BEGIN:VEVENT
DTSTART;TZID=UTC:20160223T193000
DTEND;TZID=UTC:20160223T210000
DTSTAMP:20260423T202121
CREATED:20151106T205508Z
LAST-MODIFIED:20160228T215211Z
UID:1967-1456255800-1456261200@www.mctgardenclub.org
SUMMARY:MCT Garden Club February Meeting Topic: Creating Children's Gardens: Growing Gardeners
DESCRIPTION:Hi Fellow Gardeners\, Neighbors\, and Friends!\nThe next Mill Creek Towne Garden Club meeting is planned for February 23rd at the Mill Creek Towne Elementary School beginning at 7:30 p.m.  Two Montgomery County Master Gardeners\, Merikay Smith and LeeAnne Gelletly\, will be speaking on “Children’s Gardens – Growing Gardeners”. This should be a great talk! We hope you can join us. We look forward to seeing you then! Below are the details. \n\nDate: Tuesday\, February 23\, 2016 @ 7:30 pm\nTopic: Creating Children’s Gardens: Growing Gardeners\nSpeaker: Merikay Smith and Lee Anne Gellety\, Master Gardeners\nLocation: Mill Creek Towne Elementary Teacher’s Lounge\nHostesses: Heather Whirley\, Lynn Hughes\n\n 
URL:https://www.mctgardenclub.org/event/mct-garden-club-february-meeting-topic-creating-childrens-gardens/
LOCATION:Mill Creek Towne Elementary\, 17700 Park Mill Dr\, Derwood\, 20855\, United States
CATEGORIES:Free,garden,Kids,special event,workshop
ATTACH;FMTTYPE=image/jpeg:https://www.mctgardenclub.org/wp-content/uploads/2015/12/commgarden2.jpg
END:VEVENT
BEGIN:VEVENT
DTSTART;TZID=UTC:20160131T160000
DTEND;TZID=UTC:20160131T163000
DTSTAMP:20260423T202121
CREATED:20160109T193956Z
LAST-MODIFIED:20160112T233419Z
UID:2893-1454256000-1454257800@www.mctgardenclub.org
SUMMARY:01/31/2016 - What Are You Missing?
DESCRIPTION:Look around…listen…breath deep…touch! Our understanding of the world around us is based on what we can sense\, and what we can imagine. As humans\, we have limited senses of hearing and sight–and our sense of time also has an effect on what we understand. Join a Brookside naturalist to learn how to use different tools to expand your powers of observation and sharpen your senses. You never know what you’ll discover when you take a closer look! \nAges 5 & up \n 
URL:https://www.mctgardenclub.org/event/01312016-what-are-you-missing/
LOCATION:Brookside Nature Center in Wheaton Regional Park\, 1400 Glenallan Ave.\, Wheaton\, MD\, 20902\, United States
CATEGORIES:Family,Free,Kids,Nature
END:VEVENT
BEGIN:VEVENT
DTSTART;TZID=UTC:20160131T133000
DTEND;TZID=UTC:20160131T153000
DTSTAMP:20260423T202121
CREATED:20160109T193954Z
LAST-MODIFIED:20160112T233047Z
UID:2867-1454247000-1454254200@www.mctgardenclub.org
SUMMARY:01/31/2016 - Make It and Take It: Twig Art
DESCRIPTION:Drop by the Visitor Center and have some fun! We’ll have easy-to-make seasonal crafts that you can make and take home. No registration required; drop-in anytime during program hours! Fee is per craft; exact change is appreciated. \nAll ages \n 
URL:https://www.mctgardenclub.org/event/01312016-make-it-and-take-it-twig-art/
LOCATION:Black Hill Regional Park\, 20926 Lake Ridge Dr.\, Boyds\, MD\, 20841\, United States
CATEGORIES:Kids
END:VEVENT
BEGIN:VEVENT
DTSTART;TZID=UTC:20160131T133000
DTEND;TZID=UTC:20160131T140000
DTSTAMP:20260423T202121
CREATED:20160109T193953Z
LAST-MODIFIED:20160112T232901Z
UID:2855-1454247000-1454248800@www.mctgardenclub.org
SUMMARY:01/31/2016 - Meet the Animals
DESCRIPTION:What animals live in and around Wheaton Regional Park and which animals actually live in the nature center? Join this family friendly presentation and your chance to see the animals close up.   \nAges 2 & up \n 
URL:https://www.mctgardenclub.org/event/01312016-meet-the-animals/
LOCATION:Brookside Nature Center in Wheaton Regional Park\, 1400 Glenallan Ave.\, Wheaton\, MD\, 20902\, United States
CATEGORIES:Family,Free,Kids,Nature
END:VEVENT
BEGIN:VEVENT
DTSTART;TZID=UTC:20160130T120000
DTEND;TZID=UTC:20160130T122000
DTSTAMP:20260423T202121
CREATED:20160109T193956Z
LAST-MODIFIED:20160112T232223Z
UID:2897-1454155200-1454156400@www.mctgardenclub.org
SUMMARY:01/30/2016 - Raptor Feeding
DESCRIPTION:Observe Meadowside’s resident raptors during their feeding time and hear some stories about the raptors on exhibit. \nAll ages
URL:https://www.mctgardenclub.org/event/01302016-raptor-feeding/
LOCATION:Meadowside Nature Center in Rock Creek Regional Park\, 5100 Meadowside Lane\, Rockville\, MD\, 20855\, United States
CATEGORIES:Family,Free,Kids,Nature
END:VEVENT
BEGIN:VEVENT
DTSTART;TZID=UTC:20160130T100000
DTEND;TZID=UTC:20160130T110000
DTSTAMP:20260423T202121
CREATED:20160109T193953Z
LAST-MODIFIED:20160112T231339Z
UID:2857-1454148000-1454151600@www.mctgardenclub.org
SUMMARY:01/30/2016 - Nature Architects
DESCRIPTION:Erect a tower\, build a boat\, make a mud pie…it’s time to let your inner architect out! We’ll venture into different park habitats to design and construct things using natural objects and materials. What we do will depend on the weather and the things we can find. But no matter what we do\, come dressed for the weather and ready to get dirty.  \nAges 3 to 12
URL:https://www.mctgardenclub.org/event/01302016-nature-architects/
LOCATION:Black Hill Regional Park\, 20926 Lake Ridge Dr.\, Boyds\, MD\, 20841\, United States
CATEGORIES:Kids,Nature,Seasonal
END:VEVENT
BEGIN:VEVENT
DTSTART;TZID=UTC:20160130T093000
DTEND;TZID=UTC:20160130T120000
DTSTAMP:20260423T202121
CREATED:20160109T193953Z
LAST-MODIFIED:20160112T231133Z
UID:2856-1454146200-1454155200@www.mctgardenclub.org
SUMMARY:01/30/2016 - Webelos/Arrow of Light Elective: Into the Wild
DESCRIPTION:Learn about flyways\, birds found in your backyard\, and caring for insects.  Explore the role producers\, consumers\, and decomposers play in the food chain of an ecosystem. \nAges 7 to 10 \n 
URL:https://www.mctgardenclub.org/event/01302016-webelosarrow-of-light-elective-into-the-wild/
LOCATION:Meadowside Nature Center in Rock Creek Regional Park\, 5100 Meadowside Lane\, Rockville\, MD\, 20855\, United States
CATEGORIES:Kids,Nature
END:VEVENT
BEGIN:VEVENT
DTSTART;TZID=UTC:20160126T100000
DTEND;TZID=UTC:20160126T110000
DTSTAMP:20260423T202121
CREATED:20160109T193956Z
LAST-MODIFIED:20160112T230913Z
UID:2892-1453802400-1453806000@www.mctgardenclub.org
SUMMARY:01/26/2016 - Trail Buddies
DESCRIPTION:Trail buddies is a great opportunity for preschoolers to discover the thrills and chills of winter nature and develop important skills together with other preschoolers and their favorite adults. As we walk the nature center trails we’ll collect\, count and sort different natural materials (pre-math)\, recognize shapes and patterns in nature (art) and invent our own outdoor nature games as we improve and develop social skills like sharing and cooperation. This program will meet every Tuesday except December 29th. Come for one\, two\, or all programs! \nAges 3 to 5 \n 
URL:https://www.mctgardenclub.org/event/01262016-trail-buddies/
LOCATION:Brookside Nature Center in Wheaton Regional Park\, 1400 Glenallan Ave.\, Wheaton\, MD\, 20902\, United States
CATEGORIES:Kids,Nature
END:VEVENT
BEGIN:VEVENT
DTSTART;TZID=UTC:20160125T103000
DTEND;TZID=UTC:20160125T120000
DTSTAMP:20260423T202121
CREATED:20160109T193953Z
LAST-MODIFIED:20160112T230725Z
UID:2853-1453717800-1453723200@www.mctgardenclub.org
SUMMARY:01/25/2016 - All About Owls
DESCRIPTION:Owls are amazing creatures\, flying silently through the air to catch their prey. Join us to learn how local species “tiger of the air\,” “monkey-faced owl\,” and the “laughing owl” got these names and more! Suzanne Shoemaker\, rehabilitator from Owl Moon Raptor Center\, and one of her education birds will visit us too. The center does great work but their patients can’t pay. If you’d like to help\, please feel free to bring a donation item for Owl Moon. Check out www.OwlMoon.org to view their wish list or make a donation. \nAges 4 to 16 \n 
URL:https://www.mctgardenclub.org/event/01252016-all-about-owls/
LOCATION:Black Hill Regional Park\, 20926 Lake Ridge Dr.\, Boyds\, MD\, 20841\, United States
CATEGORIES:Kids,Nature
END:VEVENT
BEGIN:VEVENT
DTSTART;TZID=UTC:20160124T160000
DTEND;TZID=UTC:20160124T163000
DTSTAMP:20260423T202121
CREATED:20160109T193957Z
LAST-MODIFIED:20160112T230527Z
UID:2904-1453651200-1453653000@www.mctgardenclub.org
SUMMARY:01/24/2016 - What Are You Missing?
DESCRIPTION:Look around…listen…breath deep…touch! Our understanding of the world around us is based on what we can sense\, and what we can imagine. As humans\, we have limited senses of hearing and sight–and our sense of time also has an effect on what we understand. Join a Brookside naturalist to learn how to use different tools to expand your powers of observation and sharpen your senses. You never know what you’ll discover when you take a closer look!  \nAges 5 & up \n 
URL:https://www.mctgardenclub.org/event/01242016-what-are-you-missing/
LOCATION:Brookside Nature Center in Wheaton Regional Park\, 1400 Glenallan Ave.\, Wheaton\, MD\, 20902\, United States
CATEGORIES:Family,Free,Kids,Nature
END:VEVENT
BEGIN:VEVENT
DTSTART;TZID=UTC:20160124T090000
DTEND;TZID=UTC:20160124T170000
DTSTAMP:20260423T202121
CREATED:20160109T193953Z
LAST-MODIFIED:20160112T225919Z
UID:2852-1453626000-1453654800@www.mctgardenclub.org
SUMMARY:01/24/2016 - Park Play Day
DESCRIPTION:No school? No problem! On many of the days Montgomery County Public Schools are off (teacher training days\, etc.)\, Park Play Days are on.  Bring your kids for a Park Play Day full of activities\, including an ice skating lesson\, arts & crafts\, and fun team games and sports.   \nAges 6 to 12 \n 
URL:https://www.mctgardenclub.org/event/01242016-park-play-day/
LOCATION:Cabin John Ice Rink\, 10610 Westlake Drive\, Rockville\, MD\, 20852\, United States
CATEGORIES:Ice Skating,Kids,Sports
END:VEVENT
BEGIN:VEVENT
DTSTART;TZID=UTC:20160124T090000
DTEND;TZID=UTC:20160124T170000
DTSTAMP:20260423T202121
CREATED:20160109T193952Z
LAST-MODIFIED:20160112T225339Z
UID:2843-1453626000-1453654800@www.mctgardenclub.org
SUMMARY:01/24/2016 - Tennis Boot Days
DESCRIPTION:School’s out today\, so why not let your young tennis pros take the day to learn and improve their tennis skills?  We’ll use games\, personal instruction and drills to teach beginning/intermediate level players all the basics: forehand\, backhand and overhead strokes\, serves and volleys\, footwork\, scorekeeping\, names and meanings of the lines\, and more.  It’s great fun and great exercise\, too!  Please bring non-perishable lunch. \nAges 6 to 12
URL:https://www.mctgardenclub.org/event/01242016-tennis-boot-days/
LOCATION:Pauline Betz Addie Tennis Center\, 7801 Democracy Boulevard\, Bethesda\, MD\, 20817\, United States
CATEGORIES:Kids,Sports,Tennis
END:VEVENT
BEGIN:VEVENT
DTSTART;TZID=UTC:20160123T140000
DTEND;TZID=UTC:20160123T150000
DTSTAMP:20260423T202121
CREATED:20160109T193953Z
LAST-MODIFIED:20160112T225050Z
UID:2851-1453557600-1453561200@www.mctgardenclub.org
SUMMARY:01/23/2016 - Wheaton Wanders
DESCRIPTION:Take a walk with a naturalist on nearby trails to discover what’s happening in nature around Brookside Nature Center. One day we might learn how to identify trees in winter\, another day we’ll go birdwatching. The next week we may learn about animal tracks. You never know what nature will share\, so be here each week for all the fun!  \nAges 6 to 12 \n 
URL:https://www.mctgardenclub.org/event/01232016-wheaton-wanders/
LOCATION:Brookside Nature Center in Wheaton Regional Park\, 1400 Glenallan Ave.\, Wheaton\, MD\, 20902\, United States
CATEGORIES:Family,Free,Kids,Nature,Seasonal
END:VEVENT
BEGIN:VEVENT
DTSTART;TZID=UTC:20160123T113000
DTEND;TZID=UTC:20160123T114500
DTSTAMP:20260423T202121
CREATED:20160109T193957Z
LAST-MODIFIED:20160112T224907Z
UID:2903-1453548600-1453549500@www.mctgardenclub.org
SUMMARY:01/23/2016 - Raptor Enrichment
DESCRIPTION:Raptors are smart! Come see Meadowside’s resident raptors as they search for food\, explore new objects\, and encounter new experiences.   \nAll ages
URL:https://www.mctgardenclub.org/event/01232016-raptor-enrichment/
LOCATION:Meadowside Nature Center in Rock Creek Regional Park\, 5100 Meadowside Lane\, Rockville\, MD\, 20855\, United States
CATEGORIES:Family,Free,Kids,Nature
END:VEVENT
BEGIN:VEVENT
DTSTART;TZID=UTC:20160122T183000
DTEND;TZID=UTC:20160122T193000
DTSTAMP:20260423T202121
CREATED:20160109T193953Z
LAST-MODIFIED:20160112T224521Z
UID:2849-1453487400-1453491000@www.mctgardenclub.org
SUMMARY:01/22/2016 - Night Hike: Black Hill
DESCRIPTION:Take a hike by the light of the full moon. We’ll look and listen for creatures that are most active at night. Hikes are approximately 1 mile. Dress warmly and please\, no flashlights.  \nAges 8 & up \n 
URL:https://www.mctgardenclub.org/event/01222016-night-hike-black-hill/
LOCATION:Black Hill Regional Park\, 20926 Lake Ridge Dr.\, Boyds\, MD\, 20841\, United States
CATEGORIES:Family,hike,Kids,Nature
END:VEVENT
BEGIN:VEVENT
DTSTART;TZID=UTC:20160118T090000
DTEND;TZID=UTC:20160118T170000
DTSTAMP:20260423T202121
CREATED:20160109T193957Z
LAST-MODIFIED:20160109T225436Z
UID:2901-1453107600-1453136400@www.mctgardenclub.org
SUMMARY:01/18/2016 - Tennis Boot Days
DESCRIPTION:School’s out today\, so why not let your young tennis pros take the day to learn and improve their tennis skills?  We’ll use games\, personal instruction and drills to teach beginning/intermediate level players all the basics: forehand\, backhand and overhead strokes\, serves and volleys\, footwork\, scorekeeping\, names and meanings of the lines\, and more.  It’s great fun and great exercise\, too!  Please bring non-perishable lunch. \nAges 6 to 12 \n 
URL:https://www.mctgardenclub.org/event/01182016-tennis-boot-days/
LOCATION:Wheaton Indoor Tennis\, Wheaton Regional Park\, 11715 Orebaugh Ave\, Wheaton\, MD\, 20902\, United States
CATEGORIES:Kids,Sports,Tennis
END:VEVENT
BEGIN:VEVENT
DTSTART;TZID=UTC:20160118T090000
DTEND;TZID=UTC:20160118T170000
DTSTAMP:20260423T202121
CREATED:20160109T193951Z
LAST-MODIFIED:20160109T225206Z
UID:2824-1453107600-1453136400@www.mctgardenclub.org
SUMMARY:01/18/2016 - Park Play Day
DESCRIPTION:No school? No problem! On many of the days Montgomery County Public Schools are off (teacher training days\, etc.)\, Park Play Days are on.  Bring your kids (ages 6-12) for a Park Play Day full of activities\, including an ice skating lesson\, arts & crafts\, and fun team games and sports.   \nAges 6 to 12 \n 
URL:https://www.mctgardenclub.org/event/01182016-park-play-day/
LOCATION:Wheaton Regional Park\, 2000 Shorefield Road\, Wheaton\, MD 20902\, Wheaton\, MD\, 20902\, United States
CATEGORIES:Kids,Seasonal
END:VEVENT
BEGIN:VEVENT
DTSTART;TZID=UTC:20160117T133000
DTEND;TZID=UTC:20160117T140000
DTSTAMP:20260423T202121
CREATED:20160109T193954Z
LAST-MODIFIED:20160109T223402Z
UID:2877-1453037400-1453039200@www.mctgardenclub.org
SUMMARY:01/17/2016 - Meet the Animals
DESCRIPTION:What animals live in and around Wheaton Regional Park and which animals actually live in the nature center? Join this family friendly presentation and your chance to see the animals close up.  \nAges 2 & up \n 
URL:https://www.mctgardenclub.org/event/01172016-meet-the-animals/
LOCATION:Brookside Nature Center in Wheaton Regional Park\, 1400 Glenallan Ave.\, Wheaton\, MD\, 20902\, United States
CATEGORIES:Family,Free,Kids,Nature
END:VEVENT
BEGIN:VEVENT
DTSTART;TZID=UTC:20160116T170000
DTEND;TZID=UTC:20160116T180000
DTSTAMP:20260423T202121
CREATED:20160109T193951Z
LAST-MODIFIED:20160109T223026Z
UID:2828-1452963600-1452967200@www.mctgardenclub.org
SUMMARY:01/16/2016 - Winter Campfire
DESCRIPTION:Baby its cold outside! But don’t let that stop you from enjoying a roaring campfire under the stars. Join a naturalist for a winter-inspired campfire followed by s’mores! Meet at the Visitor Center and bring a chair or blanket. \nAges 1 & up \n 
URL:https://www.mctgardenclub.org/event/01162016-winter-campfire/
LOCATION:Black Hill Regional Park\, 20926 Lake Ridge Dr.\, Boyds\, MD\, 20841\, United States
CATEGORIES:Family,Kids,Nature
END:VEVENT
BEGIN:VEVENT
DTSTART;TZID=UTC:20160116T153000
DTEND;TZID=UTC:20160116T170000
DTSTAMP:20260423T202121
CREATED:20160109T193952Z
LAST-MODIFIED:20160109T222742Z
UID:2842-1452958200-1452963600@www.mctgardenclub.org
SUMMARY:01/16/2016 - Easy Basketry
DESCRIPTION:Using willow staves and a round wooden base\, we’ll fashion a simple\, cylindrical basket by applying basic basket weaving techniques.  The natural container we create will be ideal for holding pens\, tools or other utensils. \nAges 12 & up \n 
URL:https://www.mctgardenclub.org/event/01162016-easy-basketry/
LOCATION:Brookside Nature Center in Wheaton Regional Park\, 1400 Glenallan Ave.\, Wheaton\, MD\, 20902\, United States
CATEGORIES:Family,Kids,Nature
END:VEVENT
BEGIN:VEVENT
DTSTART;TZID=UTC:20160116T140000
DTEND;TZID=UTC:20160116T150000
DTSTAMP:20260423T202121
CREATED:20160109T193954Z
LAST-MODIFIED:20160109T222550Z
UID:2869-1452952800-1452956400@www.mctgardenclub.org
SUMMARY:01/16/2016 - Wheaton Wanders
DESCRIPTION:Take a walk with a naturalist on nearby trails to discover what’s happening in nature around Brookside Nature Center. One day we might learn how to identify trees in winter\, another day we’ll go birdwatching. The next week we may learn about animal tracks. You never know what nature will share\, so be here each week for all the fun! \nAges 6 to 12
URL:https://www.mctgardenclub.org/event/01162016-wheaton-wanders/
LOCATION:Brookside Nature Center in Wheaton Regional Park\, 1400 Glenallan Ave.\, Wheaton\, MD\, 20902\, United States
CATEGORIES:Free,Kids,Nature
END:VEVENT
BEGIN:VEVENT
DTSTART;TZID=UTC:20160116T130000
DTEND;TZID=UTC:20160116T150000
DTSTAMP:20260423T202121
CREATED:20160109T193951Z
LAST-MODIFIED:20160109T222202Z
UID:2834-1452949200-1452956400@www.mctgardenclub.org
SUMMARY:01/16/2016 - Outdoor Classroom Explor-a-thon
DESCRIPTION:Want to jump like a frog? Dig a hole to China? Search for spineless wonders? Then join us in the outdoor classroom exploration areas at the Black Hill Visitor Center. Staff will guide children through a variety of activities that are sure to be fun and inspiring. Dress for the weather. \nAges 5 to 12
URL:https://www.mctgardenclub.org/event/01162016-outdoor-classroom-explor-a-thon/
LOCATION:Black Hill Regional Park\, 20926 Lake Ridge Dr.\, Boyds\, MD\, 20841\, United States
CATEGORIES:Free,Kids,Nature
END:VEVENT
BEGIN:VEVENT
DTSTART;TZID=UTC:20160116T120000
DTEND;TZID=UTC:20160116T122000
DTSTAMP:20260423T202121
CREATED:20160109T193954Z
LAST-MODIFIED:20160109T221948Z
UID:2868-1452945600-1452946800@www.mctgardenclub.org
SUMMARY:01/16/2016 - Raptor Feeding
DESCRIPTION:Observe Meadowside’s resident raptors during their feeding time and hear some stories about the raptors on exhibit.   \nAll ages \n 
URL:https://www.mctgardenclub.org/event/01162016-raptor-feeding/
LOCATION:Meadowside Nature Center in Rock Creek Regional Park\, 5100 Meadowside Lane\, Rockville\, MD\, 20855\, United States
CATEGORIES:Family,Free,Kids,Nature
END:VEVENT
BEGIN:VEVENT
DTSTART;TZID=UTC:20160116T113000
DTEND;TZID=UTC:20160116T114500
DTSTAMP:20260423T202121
CREATED:20160109T193955Z
LAST-MODIFIED:20160109T221752Z
UID:2883-1452943800-1452944700@www.mctgardenclub.org
SUMMARY:01/16/2016 - Raptor Enrichment
DESCRIPTION:Raptors are smart! Come see Meadowside’s resident raptors as they search for food\, explore new objects\, and encounter new experiences. \nAll ages \n 
URL:https://www.mctgardenclub.org/event/01162016-raptor-enrichment/
LOCATION:Meadowside Nature Center in Rock Creek Regional Park\, 5100 Meadowside Lane\, Rockville\, MD\, 20855\, United States
CATEGORIES:Family,Free,Kids,Nature
END:VEVENT
BEGIN:VEVENT
DTSTART;TZID=UTC:20160116T110000
DTEND;TZID=UTC:20160116T113000
DTSTAMP:20260423T202121
CREATED:20160109T193957Z
LAST-MODIFIED:20160109T221504Z
UID:2902-1452942000-1452943800@www.mctgardenclub.org
SUMMARY:01/16/2016 - Meet the Animals
DESCRIPTION:What animals live in and around Wheaton Regional Park and which animals actually live in the nature center?  \nAges 2 & up \n 
URL:https://www.mctgardenclub.org/event/01162016-meet-the-animals/
LOCATION:Brookside Nature Center in Wheaton Regional Park\, 1400 Glenallan Ave.\, Wheaton\, MD\, 20902\, United States
CATEGORIES:Family,Free,Kids,Nature
END:VEVENT
BEGIN:VEVENT
DTSTART;TZID=UTC:20151120T100000
DTEND;TZID=UTC:20151120T103000
DTSTAMP:20260423T202121
CREATED:20151101T191125Z
LAST-MODIFIED:20151106T214846Z
UID:1811-1448013600-1448015400@www.mctgardenclub.org
SUMMARY:11/20/2015 - Fall Garden Harvest Scavenger Hunt
DESCRIPTION:Have some Fall season fun throughout the gardens. Start at the Visitors Center and follow the colorful leaf trail leading you to the Conservatory and back again. Along the way hunt for seasonal clues and participate in fun activities\, exercises and crafts. Guided garden walks leave on the half hour beginning at 10:00am. Last walk leaves at 11:30pm. An adult must accompany each child. \nAges 2 to 7
URL:https://www.mctgardenclub.org/event/11202015-fall-garden-harvest-scavenger-hunt/
LOCATION:Brookside Gardens\, 1800 Glenallan Ave.\, Wheaton\, MD\, 20902\, United States
CATEGORIES:garden,Kids,Nature
END:VEVENT
BEGIN:VEVENT
DTSTART;TZID=UTC:20151107T133000
DTEND;TZID=UTC:20151107T143000
DTSTAMP:20260423T202121
CREATED:20151101T191120Z
LAST-MODIFIED:20151107T151659Z
UID:1771-1446903000-1446906600@www.mctgardenclub.org
SUMMARY:11/07/2015 - Locust Grove Cider Days
DESCRIPTION:Learn about cider\, apple varieties\, and apple history. Sample lesser-known apple types\, and try your hand at pressing cider. Children and adults must register and pay.  \nAges 2 & up \n  \nSign up here: \nhttps://apm.activecommunities.com/montgomerycounty/Activity_Search?txtActivitySearch=cider&applyFiltersDefaultValue=true&cat=Activities
URL:https://www.mctgardenclub.org/event/11072015-locust-grove-cider-days/
LOCATION:Locust Grove Nature Center\, 7777 Democracy Boulevard\, Bethesda\, MD\, 20817\, United States
CATEGORIES:Kids,Nature
ATTACH;FMTTYPE=image/jpeg:https://www.mctgardenclub.org/wp-content/uploads/2015/11/FB_IMG_1446908723984.jpg
END:VEVENT
BEGIN:VEVENT
DTSTART;TZID=UTC:20151107T100000
DTEND;TZID=UTC:20151107T160000
DTSTAMP:20260423T202121
CREATED:20151101T191120Z
LAST-MODIFIED:20151106T174814Z
UID:1770-1446890400-1446912000@www.mctgardenclub.org
SUMMARY:11/07/2015 - Blacksmiths & Friends: Traditional Arts Show
DESCRIPTION:Blacksmiths\, silversmiths\, coppersmiths and other artisans will demonstrate their art at this FREE event! \nFeaturing: \n\nHands-on instruction for children\nDemonstrations\nMetal gifts & art for sale\nHayrides & food\n\nHeld rain or shine at the beautiful Agricultural History Farm Park. \nPresented by the Friends of the Agricultural History Farm Park and Montgomery Parks. \n 
URL:https://www.mctgardenclub.org/event/11072015-blacksmiths-friends-traditional-arts-show/
LOCATION:University of Maryland Extension Montgomery County Office\, 18400 Muncaster Rd\, Derwood\, MD\, 20855\, United States
CATEGORIES:Family,Free,Kids,Nature,special event
ATTACH;FMTTYPE=image/jpeg:https://www.mctgardenclub.org/wp-content/uploads/2015/11/blacksmiths-arts-show-2015.jpg
END:VEVENT
BEGIN:VEVENT
DTSTART;TZID=UTC:20151107T090000
DTEND;TZID=UTC:20151107T170000
DTSTAMP:20260423T202121
CREATED:20151101T191118Z
LAST-MODIFIED:20151106T174814Z
UID:1761-1446886800-1446915600@www.mctgardenclub.org
SUMMARY:11/07/2015 - Maryland Emancipation Day Celebrations 2015  - Day 2
DESCRIPTION:Enslaved people living in Maryland were freed by a new state constitution on November 1\, 1864. Please join us November 6-8\, 2015 in celebrating Maryland Emancipation Day in our parks! \nHike the Underground Railroad\, tour a slave cabin\, visit an African American history museum\, enjoy living history demonstrations and eat great food! Most Saturday and Sunday Park events are FREE. \nVisit HistoryInTheParks.org for details. \nNOTE: In the event of severe weather\, please call ahead to make sure the parks will be open. On Saturday mornings\, please call 301-650-4373 and a recorded message will advise you of the park hours. \n\n\n\n\nFriday\, November 6 \n\n\n\n\nSOLD OUT – Underground Railroad Experience Trail Special Night Hike \n“Voices of the Underground Railroad”\n 7 – 9:30 pm – $5 | Register at ActiveMONTGMERY.org\n Woodlawn Manor Cultural Park\n 16501 Norwood Rd.\, Sandy Spring\, MD 20860 \n\n\n\n\n\n\n\n\nSaturday\, November 7 \n\n\n\n\nUnderground Railroad Experience Trail Hikes \n Woodlawn Manor Cultural Park\n 16501 Norwood Rd.\, Sandy Spring\, MD 20860  \nSandy Spring Slave Museum & African Art Gallery Open House \n 18524 Brooke Rd.\, Sandy Spring\, MD 20860 \nSandy Spring Museum Open House\n17901 Bentley Rd.\, Sandy Spring\, MD 20860 \n\n\nOakley Cabin African American*\n Museum & Park | Live Music &\n Demonstrations*\n 3610 Brookeville Rd.\, Olney\, MD 20832 \nHarper Cabin at Brookside Nature Center\n Tours & Demonstrations\n 1400 Glenallen Ave.\, Wheaton\, MD 20902 \n\n\n\n\n\n\n\n\nSunday\, November 7 \n\n\n\n\nJosiah Henson Park* \n Open House*\n 11420 Old Georgetown Rd.\n N. Bethesda\, MD 20852 \n\n\nHarper Cabin at Brookside Nature Center\nTours & Demonstrations\n 1400 Glenallen Ave.\, Wheaton\, MD 20902\n Admission Free – Purchase tickets onsite for \n cider tastings\, crafts\, and other activities \n\n\n\n\n*American Sign Language (ASL) interpreters will be available.
URL:https://www.mctgardenclub.org/event/11072015-maryland-emancipation-day-celebrations-2015-day-2/
LOCATION:Times & Locations Vary\, MD\, United States
CATEGORIES:Family,Free,hike,Kids,Nature,special event
END:VEVENT
END:VCALENDAR