BEGIN:VCALENDAR
VERSION:2.0
PRODID:-//Mill Creek Towne Garden Club - ECPv6.15.20//NONSGML v1.0//EN
CALSCALE:GREGORIAN
METHOD:PUBLISH
X-ORIGINAL-URL:https://www.mctgardenclub.org
X-WR-CALDESC:Events for Mill Creek Towne Garden Club
REFRESH-INTERVAL;VALUE=DURATION:PT1H
X-Robots-Tag:noindex
X-PUBLISHED-TTL:PT1H
BEGIN:VTIMEZONE
TZID:UTC
BEGIN:STANDARD
TZOFFSETFROM:+0000
TZOFFSETTO:+0000
TZNAME:UTC
DTSTART:20240101T000000
END:STANDARD
END:VTIMEZONE
BEGIN:VEVENT
DTSTART;TZID=UTC:20251028T190000
DTEND;TZID=UTC:20251028T200000
DTSTAMP:20260424T033238
CREATED:20250903T180607Z
LAST-MODIFIED:20251023T184632Z
UID:10592-1761678000-1761681600@www.mctgardenclub.org
SUMMARY:Introduction to the World of Herbs
DESCRIPTION:October 28\, 2025 \n7pm \nMill Creek Parish United Methodist\n7101 Horizon Terrace\nDerwood\, MD 20855 \nJoin us for a special presentation on an “Introduction to the World of Herbs”\, by guest speaker\, Pat Kenny\, Master Gardener on Tuesday\, October 28\, 2025 at 7pm. \n\nFREE\nLight Refreshments provided\n\nLearn about the care\, maintenance\, and uses of the different types of herbs\, a popular and interesting aspect of gardening. \nPat’s Bio  \nA Master Gardener for over 25 years\, Pat is a well known speaker on the topic of herbs.  She has been a member of the Herb Society of America for 40+ years and a medical and biological illustrator at NIH for 30 years.  Pat was also the caretaker of the National Library of Medicine Herb Garden at NIH. Over several decades\, she has taught about herbs and herbcraft for the USDA Graduate School – Evening Programs\, the Montgomery County Recreation Department\, and the University of Maryland – Extension Master Gardener Program. She adds more herbs to her vegetable garden every year! \nRSVP: info@mctgardenclub.org \nPlease do NOT attend this event if you are or have been experiencing symptoms of illness. \nTHIS EVENT IS FREE\, BUT DONATIONS ARE ALWAYS APPRECIATED! \nDonations pay for landscaping\, repair and maintenance of the Mill Creek Towne Entrances\, and our garden-related programs at our community meetings. \nNOTE: If Montgomery County Schools are closed due to inclement weather\, the Garden Club meeting will be cancelled. \n 
URL:https://www.mctgardenclub.org/event/introduction-to-the-world-of-herbs/
LOCATION:Mill Creek Parish United Methodist\, 7101 Horizon Terrace\, Derwood\, MD\, 20855
CATEGORIES:Free,garden,special event
ATTACH;FMTTYPE=image/png:https://www.mctgardenclub.org/wp-content/uploads/2025/09/Introduction-to-the-World-of-Herbs.png
END:VEVENT
END:VCALENDAR