BEGIN:VCALENDAR
VERSION:2.0
PRODID:-//Mill Creek Towne Garden Club - ECPv6.15.20//NONSGML v1.0//EN
CALSCALE:GREGORIAN
METHOD:PUBLISH
X-WR-CALNAME:Mill Creek Towne Garden Club
X-ORIGINAL-URL:https://www.mctgardenclub.org
X-WR-CALDESC:Events for Mill Creek Towne Garden Club
REFRESH-INTERVAL;VALUE=DURATION:PT1H
X-Robots-Tag:noindex
X-PUBLISHED-TTL:PT1H
BEGIN:VTIMEZONE
TZID:UTC
BEGIN:STANDARD
TZOFFSETFROM:+0000
TZOFFSETTO:+0000
TZNAME:UTC
DTSTART:20230101T000000
END:STANDARD
END:VTIMEZONE
BEGIN:VEVENT
DTSTART;TZID=UTC:20240412T160000
DTEND;TZID=UTC:20240412T180000
DTSTAMP:20260425T103536
CREATED:20240321T141105Z
LAST-MODIFIED:20240411T160412Z
UID:9552-1712937600-1712944800@www.mctgardenclub.org
SUMMARY:FREE Native Tree & Shrub Giveaway - Fri\, April 12\, 2024
DESCRIPTION:Friday\, April 12\, 2024\, 4-6pm \nPick Up Location: 7617 Warbler Lane\, Derwood\, MD 20855 \nThe Mill Creek Towne Garden Club is pleased to offer FREE native trees and shrubs provided to us by the Maryland Department of Natural Resources. \nWe are giving away 100 native trees and shrubs starting at 4pm and ending at 6pm on Friday\, April 12\, 2024. First come\, first serve. \nFor questions\, please use the contact form below. Thank you! \n                      Mill Creek Towne Garden Club - Free Native Tree & Shrub Giveaway                                                      Name:*FirstLast    Phone*    E-mail:*    Message:This event is Free. Event dates/times are subject to change. Notifications will be sent to registered attendees if events need to be rescheduled.   Donations to the Mill Creek Towne Garden Club are appreciated. For details on how to donate\, please visit our Donations Page.     reCAPTCHASubmitReset\nTrees/Shrubs: \n\nPin Oak\nServiceberry\nRedbud\nRiver Birch\nHazelnut\nBlack Cherry\nIndigo Bush\nSilky Dogwood\nAmerican Sycamore\n\nThe trees and shrubs will be available for pick up at 7617 Warbler Lane\, Derwood\, MD 20855. Please limit your selection to two plants per household. If you want more than two\, please provide your name and contact information so we can contact you. The trees come bareroot – they need to be planted as soon as possible and you will need to provide deer protection unless they are inside a fenced area that the deer do not frequent. Please bring damp newspaper to wrap the roots up until they are ready for planting.  \nFor more detailed guidance on planting and caring for bare root trees visit: https://dnr.maryland.gov/forests/Documents/Planting-Guide-Brochure.pdf \nDealing with deer…Deer management and Tree cages: Watch for the presence of deer. Use repellents during installations and cage ALL trees and shrubs to prevent deer browsing and rubbing. I cannot emphasize this enough – cage immediately upon planting to avoid catastrophe!  For guidance on caging see this handy guide:  https://mywoodlot.com/images/supporting_information/installing_tree_cages.pdfDeer fencing material: I have had excellent success using Tenax brand deer fencing. This material is UV stable and sturdier than the usual flimsy mesh typically available at Home Depot and Lowes. The flimsy stuff will tear more easily and I have repeatedly found snakes stuck in this mesh.  To avoid the snake problem and for a sturdy product\, be sure to purchase Tenax with 1-¾” by 2” mesh size. Zip ties work well to secure the Tenax to a stake and to itself. \nDonations\nThese plants are free to the public\, but we do welcome donations to the Club to help us continue to beautify our neighborhood and provide quality programming. To donate and consider joining the Mill Creek Towne Garden Club\, please visit: \nDonate Today!\nResources\n\n\n\n\n	Planting Guide Installing Tree Cages \n\n\n\n\n\n\n\n\n\nPin Oak  \nPin Oak (Quercus palustris):  Growing up to 80 feet tall\, the Pin Oak is a majestic addition to any landscape. Its deeply lobed leaves turn a fiery red in fall\, while its tolerance for various soil conditions makes it an adaptable choice. \nPhoto Credit: Bruce Marlin\, CC BY-SA 2.5\n\n\n\n\n\nServiceberry \nEastern Serviceberry (Amelanchier canadensis): This charming small tree\, reaching heights of 15-25 feet\, is a showstopper in spring with delicate white flowers.  Edible berries follow in summer\, attracting a variety of birds and pollinators\, making it a favorite for wildlife gardens. \nPhoto Credit: Walter Siegmund\, CC BY-SA 3.0\n\n\n\n\n\nEastern Redbud \nEastern Redbud (Cercis canadensis): A fast-growing delight\, the Eastern Redbud bursts with vibrant pink blossoms in early spring before its heart-shaped leaves unfurl. This 20-30 foot tall tree is a guaranteed conversation starter and adds a pop of color to any yard. \nPhoto Credit: Downspec\, CC BY-SA 4.0\n\n\n\n\n\nRiver Birch \nRiver Birch (Betula nigra):  This fast-growing favorite can reach heights of 70-100 feet. Its most striking feature is the cinnamon-colored bark that peels in papery layers\, adding year-round interest.  Thriving in moist areas and tolerating occasional flooding\, it’s a perfect choice for wetter landscapes. \nPhoto Credit: By Jgwil2 – Own work\, CC BY-SA 4.0\, https://commons.wikimedia.org/w/index.php?curid=89413687\n\n\n\n\n\nAmerican Hazelnut \nAmerican Hazelnut (Corylus americana):  A shade-tolerant understory hero\, the American Hazelnut grows 8-15 feet tall.  Not only does it provide delicious nuts for wildlife and people in fall\, but its contorted branches add a unique charm to your yard. \nBy Krzysztof Ziarnek\, Kenraiz – Own work\, CC BY-SA 4.0\, https://commons.wikimedia.org/w/index.php?curid=78618200\n\n\n\n\n\nBlack Cherry \nBlack Cherry (Prunus serotina): Reaching heights of 60-80 feet\, the Black Cherry is a haven for pollinators. Fragrant white flowers erupt in spring\, followed by clusters of dark\, sweet cherries enjoyed by birds and people alike. This fast-growing tree offers both beauty and delicious treats. \nKatrin Schneider\, korina.info – CC-BY-SA-4.0\, CC BY-SA 4.0 <https://creativecommons.org/licenses/by-sa/4.0>\, via Wikimedia Commons\n\n\n\n\n\nIndigo Bush \nIndigo Bush (Amorpha fruticosa): This low-maintenance gem grows 8-12 feet tall.  A true pollinator magnet\, it explodes with vibrant indigo flower spikes in summer\, adding a burst of color and attracting butterflies.  Easy to care for\, the indigo bush offers season-long visual interest. \nPhoto Credit: Аимаина хикари\, CC0\, via Wikimedia Commons\n\n\n\n\n\nSilky Dogwood \nSilky Dogwood (Cornus amomum):  A delicate shade-lover\, the Silky Dogwood reaches 6-8 feet tall. Clusters of white flowers grace the branches in spring\, followed by attractive red berries in fall.  Its reddish stems add a touch of winter beauty\, making it a captivating addition to shady areas. \nPhoto Credit: Douglas Goldman\, CC BY-SA 4.0 <https://creativecommons.org/licenses/by-sa/4.0>\, via Wikimedia Commons\n\n\n\n\n\nAmerican Sycamore \nAmerican Sycamore (Platanus occidentalis): A true giant of the forest\, the American Sycamore can reach heights of 100-130 feet.  Providing ample shade with its massive leaves\, it’s a perfect choice for large landscapes.  The distinctive bark adds a dramatic touch\, making it a statement tree for any yard. \nKatja Schulz from Washington\, D. C.\, USA\, CC BY 2.0 <https://creativecommons.org/licenses/by/2.0>\, via Wikimedia Commons \n\n\n\n\nResources\n\n\n\n\n	Planting Guide Installing Tree Cages
URL:https://www.mctgardenclub.org/event/free-native-tree-shrub-giveaway-fri-april_12_2024/
LOCATION:C. Randall’s Home\, 7617 Warbler Lane\, Derwood\, MD\, 20855\, United States
CATEGORIES:Free,garden,Nature,special event
ATTACH;FMTTYPE=image/png:https://www.mctgardenclub.org/wp-content/uploads/2024/03/Free-Native-Tree-Giveaway-6.png
ORGANIZER;CN="MCT Garden Club":MAILTO:info@mctgardenclub.org
END:VEVENT
BEGIN:VEVENT
DTSTART;TZID=UTC:20240423T190000
DTEND;TZID=UTC:20240423T200000
DTSTAMP:20260425T103536
CREATED:20240216T210710Z
LAST-MODIFIED:20240216T211056Z
UID:9505-1713898800-1713902400@www.mctgardenclub.org
SUMMARY:Easy to Grow Houseplants
DESCRIPTION:Tuesday\, April 23\, 2024 \n7:00 pm – 8:00 pm \nProvided by: Mill Creek Towne Garden Club\nLocation:\nMill Creek Parish United Methodist\n7101 Horizon Terrace\nDerwood\, MD 20855 \n\nFree\nLight Refreshments\n\nJoin us for a gardening presentation on “Easy to Grow Houseplants” with Bonita Condon\, a master gardener with the Montgomery County Master Gardener Program. \n\nThis demo/talk discusses some common house plants with information on the tools required; the selection of plants\, locations\, and containers; the maintenance and propagation of your plants; and common pests and diseases. \nPlease be advised that all Montgomery County Master Gardener talks are the property of the University of Maryland Extension\, and that recording of the talks is not permitted.  \n\n\n\n\n\nBonita’s Bio:\n\n\nBonita became a Master Gardener in 2014 after retiring from the National Institutes of Health. She is an avid vegetable gardener\, loves perennials\, and combats non-native invasive species in our parks and grasslands.  Her special interests include working with individuals with mobility limitations\, raised garden beds\, and tools that accommodate special needs. She is a certified Weed Warrior\, and an advisor on the Town of Kensington GreenScape committee. \nRSVP: info@mctgardenclub.org \n\n\n \nPlease do NOT attend this event if you are or have been experiencing symptoms of illness. \n\n\n \nTHIS EVENT IS FREE\, BUT DONATIONS ARE ALWAYS APPRECIATED! \nDonations pay for landscaping\, repair and maintenance of the Mill Creek Towne Entrances\, and our garden-related programs at our community meetings. \n\n\n \nNOTE: If Montgomery County Schools are closed due to inclement weather\, the Garden Club meeting will be cancelled.
URL:https://www.mctgardenclub.org/event/easy-to-grow-houseplants/
LOCATION:Mill Creek Parish United Methodist\, 7101 Horizon Terrace\, Derwood\, MD\, 20855
CATEGORIES:garden,Nature
ATTACH;FMTTYPE=image/png:https://www.mctgardenclub.org/wp-content/uploads/2024/02/Easy-to-Grow-Houseplants-1.png
ORGANIZER;CN="MCT Garden Club":MAILTO:info@mctgardenclub.org
END:VEVENT
BEGIN:VEVENT
DTSTART;TZID=UTC:20240427T080000
DTEND;TZID=UTC:20240427T120000
DTSTAMP:20260425T103536
CREATED:20240222T155432Z
LAST-MODIFIED:20240426T140559Z
UID:9496-1714204800-1714219200@www.mctgardenclub.org
SUMMARY:Mill Creek Towne Garden Club Plant & Yard Sale
DESCRIPTION:Saturday \nApril 27\, 2024 \n8:00AM – 12:00PM \n17805 Vinyard Lane \nDerwood\, MD 20855 \nCome and check out our amazing selection of plants and yard sale items including: \n\nPlants and Seedlings\nPotting Containers/Vases\nNotecards\nKitchen play set for kids\, toys\nAssorted household items\nand more!\n\nPlease help support the Mill Creek Towne Garden Club by participating in our Spring Plant & Yard Sale. Proceeds from sales and donations will help defray the costs for landscaping and maintenance of Mill Creek Towne’s main entrances and garden-related educational programs for the Derwood community! Thank you for all your help and contributions! \nAbout the Mill Creek Towne Garden Club\n \n\n\nEstablished in 1968\, the objective of the Mill Creek Towne Garden Club is to stimulate and increase knowledge and interest in all facets of gardening among amateurs\, establish an active community beautification program and to encourage civic beautification\, and foster group activities for the benefit of the members and the community. The garden club also landscapes and maintains the Mill Creek Towne entrances and common areas. \n 
URL:https://www.mctgardenclub.org/event/mill-creek-towne-garden-club-plant-yard-sale/
LOCATION:17805 Vinyard Lane\, 17805 Vinyard Lane\, Derwood\, MD\, 20855\, United States
CATEGORIES:Family,garden,special event
ATTACH;FMTTYPE=image/png:https://www.mctgardenclub.org/wp-content/uploads/2024/02/Come-and-check-out-our-amazing-selection-of-plants-and-yard-sale-items-3.png
ORGANIZER;CN="MCT Garden Club":MAILTO:info@mctgardenclub.org
END:VEVENT
END:VCALENDAR