BEGIN:VCALENDAR
VERSION:2.0
PRODID:-//Mill Creek Towne Garden Club - ECPv6.15.20//NONSGML v1.0//EN
CALSCALE:GREGORIAN
METHOD:PUBLISH
X-ORIGINAL-URL:https://www.mctgardenclub.org
X-WR-CALDESC:Events for Mill Creek Towne Garden Club
REFRESH-INTERVAL;VALUE=DURATION:PT1H
X-Robots-Tag:noindex
X-PUBLISHED-TTL:PT1H
BEGIN:VTIMEZONE
TZID:UTC
BEGIN:STANDARD
TZOFFSETFROM:+0000
TZOFFSETTO:+0000
TZNAME:UTC
DTSTART:20230101T000000
END:STANDARD
END:VTIMEZONE
BEGIN:VEVENT
DTSTART;TZID=UTC:20241022T190000
DTEND;TZID=UTC:20241022T200000
DTSTAMP:20260424T213901
CREATED:20240926T155000Z
LAST-MODIFIED:20240926T161126Z
UID:10117-1729623600-1729627200@www.mctgardenclub.org
SUMMARY:Reduce\, Reuse\, and Recycle Program
DESCRIPTION:Join us for a presentation on Montgomery County’s Recycling Program with guest speaker Barbara Fonseca\, a program specialist in Montgomery County’s Department of Environmental Protection Recycling and Resource Management Division. In this presentation\, we will learn about the latest information and programs aimed to reduce waste in our county. \nWe invite you to join us and learn more about this program and hopefully be inspired to help make our county a little more GREEN! \n\nFREE\nLight Refreshments provided\n\nRSVP: info@mctgardenclub.org \nPlease do NOT attend this event if you are or have been experiencing symptoms of illness. \nTHIS EVENT IS FREE\, BUT DONATIONS ARE ALWAYS APPRECIATED! \nDonations pay for landscaping\, repair and maintenance of the Mill Creek Towne Entrances\, and our garden-related programs at our community meetings. \nNOTE: If Montgomery County Schools are closed due to inclement weather\, the Garden Club meeting will be cancelled.
URL:https://www.mctgardenclub.org/event/reduce-reuse-and-recycle-program/
LOCATION:Mill Creek Parish United Methodist\, 7101 Horizon Terrace\, Derwood\, MD\, 20855
CATEGORIES:Free,Nature,special event
ATTACH;FMTTYPE=image/png:https://www.mctgardenclub.org/wp-content/uploads/2024/09/recycle-post-1.png
ORGANIZER;CN="MCT Garden Club":MAILTO:info@mctgardenclub.org
END:VEVENT
END:VCALENDAR