BEGIN:VCALENDAR
VERSION:2.0
PRODID:-//Mill Creek Towne Garden Club - ECPv6.15.20//NONSGML v1.0//EN
CALSCALE:GREGORIAN
METHOD:PUBLISH
X-WR-CALNAME:Mill Creek Towne Garden Club
X-ORIGINAL-URL:https://www.mctgardenclub.org
X-WR-CALDESC:Events for Mill Creek Towne Garden Club
REFRESH-INTERVAL;VALUE=DURATION:PT1H
X-Robots-Tag:noindex
X-PUBLISHED-TTL:PT1H
BEGIN:VTIMEZONE
TZID:UTC
BEGIN:STANDARD
TZOFFSETFROM:+0000
TZOFFSETTO:+0000
TZNAME:UTC
DTSTART:20220101T000000
END:STANDARD
END:VTIMEZONE
BEGIN:VEVENT
DTSTART;TZID=UTC:20230415T080000
DTEND;TZID=UTC:20230415T170000
DTSTAMP:20260426T000547
CREATED:20230320T161357Z
LAST-MODIFIED:20230320T165208Z
UID:9003-1681545600-1681578000@www.mctgardenclub.org
SUMMARY:Mill Creek Stream Extreme Cleanup - Saturday\, April 15th
DESCRIPTION:Please join the Mill Creek Towne Garden Club\, Rock Creek Conservancy\, Montgomery Parks\, and for our 2023 EXTREME CLEANUP of Mill Creek Stream on April 15\, 2023. This annual event is a watershed-wide cleanup movement with the goal of total trash removal throughout Rock Creek\, its tributaries\, and surrounding neighborhoods and parklands. Information is included in this link:\n \nhttps://www.rockcreekconservancy.org/extreme-cleanup\n \nRegistration is required using this link:\n\n\n Register Today!\n\n \nWe will update you the week of April 10\, 2023 with instruction and locations of where you can pick up supplies and leave your trash. It’s a campaign clean up event\, so go with your children\, family or friends\, pick out a point in the creek area where you can pick up trash\, and spend as much time as you want. Every little bit helps.\n \nWe hope you’ll join us!
URL:https://www.mctgardenclub.org/event/mill-creek-stream-extreme-cleanup-saturday-april-15th/
LOCATION:MD
CATEGORIES:Family,Free,garden,Nature,Volunteering
ATTACH;FMTTYPE=image/jpeg:https://www.mctgardenclub.org/wp-content/uploads/2023/03/15Apr2023-Mill-Creek-Spring-Clean-Up-join-us-scaled.jpg
END:VEVENT
END:VCALENDAR