BEGIN:VCALENDAR
VERSION:2.0
PRODID:-//Mill Creek Towne Garden Club - ECPv6.15.20//NONSGML v1.0//EN
CALSCALE:GREGORIAN
METHOD:PUBLISH
X-ORIGINAL-URL:https://www.mctgardenclub.org
X-WR-CALDESC:Events for Mill Creek Towne Garden Club
REFRESH-INTERVAL;VALUE=DURATION:PT1H
X-Robots-Tag:noindex
X-PUBLISHED-TTL:PT1H
BEGIN:VTIMEZONE
TZID:UTC
BEGIN:STANDARD
TZOFFSETFROM:+0000
TZOFFSETTO:+0000
TZNAME:UTC
DTSTART:20230101T000000
END:STANDARD
END:VTIMEZONE
BEGIN:VEVENT
DTSTART;TZID=UTC:20240423T190000
DTEND;TZID=UTC:20240423T200000
DTSTAMP:20260425T033654
CREATED:20240216T210710Z
LAST-MODIFIED:20240216T211056Z
UID:9505-1713898800-1713902400@www.mctgardenclub.org
SUMMARY:Easy to Grow Houseplants
DESCRIPTION:Tuesday\, April 23\, 2024 \n7:00 pm – 8:00 pm \nProvided by: Mill Creek Towne Garden Club\nLocation:\nMill Creek Parish United Methodist\n7101 Horizon Terrace\nDerwood\, MD 20855 \n\nFree\nLight Refreshments\n\nJoin us for a gardening presentation on “Easy to Grow Houseplants” with Bonita Condon\, a master gardener with the Montgomery County Master Gardener Program. \n\nThis demo/talk discusses some common house plants with information on the tools required; the selection of plants\, locations\, and containers; the maintenance and propagation of your plants; and common pests and diseases. \nPlease be advised that all Montgomery County Master Gardener talks are the property of the University of Maryland Extension\, and that recording of the talks is not permitted.  \n\n\n\n\n\nBonita’s Bio:\n\n\nBonita became a Master Gardener in 2014 after retiring from the National Institutes of Health. She is an avid vegetable gardener\, loves perennials\, and combats non-native invasive species in our parks and grasslands.  Her special interests include working with individuals with mobility limitations\, raised garden beds\, and tools that accommodate special needs. She is a certified Weed Warrior\, and an advisor on the Town of Kensington GreenScape committee. \nRSVP: info@mctgardenclub.org \n\n\n \nPlease do NOT attend this event if you are or have been experiencing symptoms of illness. \n\n\n \nTHIS EVENT IS FREE\, BUT DONATIONS ARE ALWAYS APPRECIATED! \nDonations pay for landscaping\, repair and maintenance of the Mill Creek Towne Entrances\, and our garden-related programs at our community meetings. \n\n\n \nNOTE: If Montgomery County Schools are closed due to inclement weather\, the Garden Club meeting will be cancelled.
URL:https://www.mctgardenclub.org/event/easy-to-grow-houseplants/
LOCATION:Mill Creek Parish United Methodist\, 7101 Horizon Terrace\, Derwood\, MD\, 20855
CATEGORIES:garden,Nature
ATTACH;FMTTYPE=image/png:https://www.mctgardenclub.org/wp-content/uploads/2024/02/Easy-to-Grow-Houseplants-1.png
ORGANIZER;CN="MCT Garden Club":MAILTO:info@mctgardenclub.org
END:VEVENT
END:VCALENDAR