BEGIN:VCALENDAR
VERSION:2.0
PRODID:-//Mill Creek Towne Garden Club - ECPv6.15.20//NONSGML v1.0//EN
CALSCALE:GREGORIAN
METHOD:PUBLISH
X-WR-CALNAME:Mill Creek Towne Garden Club
X-ORIGINAL-URL:https://www.mctgardenclub.org
X-WR-CALDESC:Events for Mill Creek Towne Garden Club
REFRESH-INTERVAL;VALUE=DURATION:PT1H
X-Robots-Tag:noindex
X-PUBLISHED-TTL:PT1H
BEGIN:VTIMEZONE
TZID:UTC
BEGIN:STANDARD
TZOFFSETFROM:+0000
TZOFFSETTO:+0000
TZNAME:UTC
DTSTART:20230101T000000
END:STANDARD
END:VTIMEZONE
BEGIN:VEVENT
DTSTART;TZID=UTC:20240420T090000
DTEND;TZID=UTC:20240420T110000
DTSTAMP:20260425T033628
CREATED:20240313T200553Z
LAST-MODIFIED:20240411T162620Z
UID:9526-1713603600-1713610800@www.mctgardenclub.org
SUMMARY:Mill Creek Stream Extreme Clean Up
DESCRIPTION:Please join the Mill Creek Towne Garden Club\, Rock Creek Conservancy\, and Montgomery Parks for our 2024 EXTREME CLEANUP of Mill Creek Stream on Saturday\, April 20\, 2024 for a litter removal restoration event in Rock Creek Park. Trash is the visible form of stormwater pollution\, a major threat to water quality and park health and its removal makes the parklands cleaner\, safer\, and more beautiful for all. Event location\, directions\, and information will be sent prior to the event. This annual event is a watershed-wide cleanup movement with the goal of total trash removal throughout Rock Creek\, its tributaries\, and surrounding neighborhoods and parklands. Information is included in this link:\n \nhttps://www.rockcreekconservancy.org/extreme-cleanup\n \nWe will update you the week of April 14\, 2024 with instruction and locations of where you can pick up supplies and leave your trash. It’s a campaign clean up event\, so go with your children\, family or friends\, pick out a point in the creek area where you can pick up trash\, and spend as much time as you want. Every little bit helps.\n \nWe hope you’ll join us!\n\n\nRegistration required. See below for registration link for this event.\n\nMill Creek Extreme Clean Up 2024 Registration
URL:https://www.mctgardenclub.org/event/mill-creek-stream-extreme-clean-up-20apr24/
CATEGORIES:Family,Free,Nature,special event,Volunteering
ATTACH;FMTTYPE=image/jpeg:https://www.mctgardenclub.org/wp-content/uploads/2024/03/20Apr2024-Mill-Creek-Spring-Clean-Up-join-us.jpg
ORGANIZER;CN="MCT Garden Club":MAILTO:info@mctgardenclub.org
END:VEVENT
END:VCALENDAR